BEGIN:VCALENDAR
VERSION:2.0
PRODID:-//Ville Morte - ECPv5.12.4//NONSGML v1.0//EN
CALSCALE:GREGORIAN
METHOD:PUBLISH
X-WR-CALNAME:Ville Morte
X-ORIGINAL-URL:https://villemorte.fr
X-WR-CALDESC:évènements pour Ville Morte
BEGIN:VTIMEZONE
TZID:Europe/Paris
BEGIN:DAYLIGHT
TZOFFSETFROM:+0100
TZOFFSETTO:+0200
TZNAME:CEST
DTSTART:20190331T010000
END:DAYLIGHT
BEGIN:STANDARD
TZOFFSETFROM:+0200
TZOFFSETTO:+0100
TZNAME:CET
DTSTART:20191027T010000
END:STANDARD
END:VTIMEZONE
BEGIN:VEVENT
DTSTART;TZID=Europe/Paris:20190103T203000
DTEND;TZID=Europe/Paris:20190103T203000
DTSTAMP:20260424T081221
CREATED:20181216T120807Z
LAST-MODIFIED:20181216T120842Z
UID:7827-1546547400-1546547400@villemorte.fr
SUMMARY:Mythark + Bloody Rabbeat + Ass Deep Tongued
DESCRIPTION:@ Rock’n’Eat \nPas encore remis(e) de ta cuite du 1er de l’an ?\nAlors viens combattre le mal par le mal. \nMenu de (remise en forme suite au) réveillon : \nEn entrée\, les Stéphanois de Mythark viendront te mettre en appétit avec leur métal symphonique puissant.\nExtrem Metal Symphonic (Saint Etienne) \nPuis en plat\, les Bloody Rabbeat te montreront qu’il n’y a pas que le foie gras dans le Sud-Ouest mais du bon Deathcore des familles. \nEnfin\, pour le dessert\, et avant de repartir promouvoir leur concept unique de Boyz Band GoreGrind Metal à travers l’Europe (des rendez-vous sont déjà pris au Pays de Galle et en Bulgarie en 2019)\, les Lyonnais d’Ass Deep Tongued te concoctent un Special Christmas Show à ne louper sous aucun prétexte. \nPrix libre et méga fiesta de mecs bourrés !!!
URL:https://villemorte.fr/agenda/mythark-bloody-rabbeat-ass-deep-tongued/
LOCATION:Rock n Eat\, 32 Quai Arloing\, Lyon\, 69009
CATEGORIES:musique live
ATTACH;FMTTYPE=image/jpeg:https://villemorte.fr/wp-content/uploads/2018/12/48356691_2222427144454606_4151214955351244800_o.jpg
END:VEVENT
END:VCALENDAR