BEGIN:VCALENDAR
VERSION:2.0
PRODID:-//Ville Morte - ECPv5.12.4//NONSGML v1.0//EN
CALSCALE:GREGORIAN
METHOD:PUBLISH
X-WR-CALNAME:Ville Morte
X-ORIGINAL-URL:https://villemorte.fr
X-WR-CALDESC:évènements pour Ville Morte
BEGIN:VTIMEZONE
TZID:Europe/Paris
BEGIN:DAYLIGHT
TZOFFSETFROM:+0100
TZOFFSETTO:+0200
TZNAME:CEST
DTSTART:20230326T010000
END:DAYLIGHT
BEGIN:STANDARD
TZOFFSETFROM:+0200
TZOFFSETTO:+0100
TZNAME:CET
DTSTART:20231029T010000
END:STANDARD
END:VTIMEZONE
BEGIN:VEVENT
DTSTART;TZID=Europe/Paris:20230125T200000
DTEND;TZID=Europe/Paris:20230125T200000
DTSTAMP:20260425T014033
CREATED:20230118T073904Z
LAST-MODIFIED:20230118T075056Z
UID:18285-1674676800-1674676800@villemorte.fr
SUMMARY:Nairod Yarg + Blabla End + East
DESCRIPTION:Nairod Yarg\nCold wave – post punk – noisy\nhttps://nairodyarg.bandcamp.com/ \nBlabla End\nFrench electronic – Synthwave band\nhttps://blablaend.bandcamp.com/ \nEast [Shoewave]\nCold indie wave band\nhttp://www.youtube.com/WeAreEastOfficial
URL:https://villemorte.fr/agenda/nairod-yarg-blabla-end-east/
LOCATION:péniche Loupika\, 47 Quai Rambaud\, LYON\, 69002
CATEGORIES:musique live
END:VEVENT
END:VCALENDAR