BEGIN:VCALENDAR
VERSION:2.0
PRODID:-//Ville Morte - ECPv5.12.4//NONSGML v1.0//EN
CALSCALE:GREGORIAN
METHOD:PUBLISH
X-WR-CALNAME:Ville Morte
X-ORIGINAL-URL:https://villemorte.fr
X-WR-CALDESC:évènements pour Ville Morte
BEGIN:VTIMEZONE
TZID:Europe/Paris
BEGIN:DAYLIGHT
TZOFFSETFROM:+0100
TZOFFSETTO:+0200
TZNAME:CEST
DTSTART:20240331T010000
END:DAYLIGHT
BEGIN:STANDARD
TZOFFSETFROM:+0200
TZOFFSETTO:+0100
TZNAME:CET
DTSTART:20241027T010000
END:STANDARD
END:VTIMEZONE
BEGIN:VEVENT
DTSTART;TZID=Europe/Paris:20241019T183000
DTEND;TZID=Europe/Paris:20241019T183000
DTSTAMP:20260422T124238
CREATED:20240908T153151Z
LAST-MODIFIED:20240908T153151Z
UID:25455-1729362600-1729362600@villemorte.fr
SUMMARY:Nelick
DESCRIPTION:À seulement 26 ans\, nelick occupe un espace bien à lui dans le paysage rap francophone. Après des débuts à freestyler seul dans son coin\, plusieurs mixtapes et EP qui lui valent une communauté de fans soudés – les « kiwis » – le jeune artiste de Champigny-sur-Marne s’apprête à dépasser son statut de rookie avec un projet à venir en 2024.
URL:https://villemorte.fr/agenda/nelick/
LOCATION:Le Sucre\, 50 quai Rambaud\, Lyon\, 69002
CATEGORIES:musique live
END:VEVENT
END:VCALENDAR