BEGIN:VCALENDAR
VERSION:2.0
PRODID:-//Ville Morte - ECPv5.12.4//NONSGML v1.0//EN
CALSCALE:GREGORIAN
METHOD:PUBLISH
X-WR-CALNAME:Ville Morte
X-ORIGINAL-URL:https://villemorte.fr
X-WR-CALDESC:évènements pour Ville Morte
BEGIN:VTIMEZONE
TZID:Europe/Paris
BEGIN:DAYLIGHT
TZOFFSETFROM:+0100
TZOFFSETTO:+0200
TZNAME:CEST
DTSTART:20220327T010000
END:DAYLIGHT
BEGIN:STANDARD
TZOFFSETFROM:+0200
TZOFFSETTO:+0100
TZNAME:CET
DTSTART:20221030T010000
END:STANDARD
END:VTIMEZONE
BEGIN:VEVENT
DTSTART;TZID=Europe/Paris:20220422T203000
DTEND;TZID=Europe/Paris:20220422T203000
DTSTAMP:20260425T150031
CREATED:20220313T170218Z
LAST-MODIFIED:20220313T170218Z
UID:15230-1650659400-1650659400@villemorte.fr
SUMMARY:Noche Peruana : Chicharron + Al Toque Mestizo
DESCRIPTION:> Vendredi 22 avril à 20h30 // Noche Peruana : Chicharrón + Al Toque Mestizo (Chicha/Folklore péruvien) // 10€\nLe 22 avril 2022 Chicharrón revient au Toï Toï pour une deuxième édition des Noche Peruana; lors de la première édition le groupe avait eu le plaisir de partager  la scène avec le duo Danza Negra. Cette fois-ci c’est le groupe genevois Al Toque Mestizo qui va nous enchanter avec de la musique péruvienne « criolla »\, au son des valses qui entremêlent guitares\, voix et cajón! Puis la soirée continuera au son de la chicha peruana avec Chicharrón. Sueur garantie.\n– Billetterie & infos –
URL:https://villemorte.fr/agenda/noche-peruana-chicharron-al-toque-mestizo/
LOCATION:Toï Toï le Zinc\, 17-19 Rue Marcel Dutartre\, Villeurbanne\, 69100 \, France
CATEGORIES:musique live
END:VEVENT
END:VCALENDAR