BEGIN:VCALENDAR
VERSION:2.0
PRODID:-//Ville Morte - ECPv5.12.4//NONSGML v1.0//EN
CALSCALE:GREGORIAN
METHOD:PUBLISH
X-WR-CALNAME:Ville Morte
X-ORIGINAL-URL:https://villemorte.fr
X-WR-CALDESC:évènements pour Ville Morte
BEGIN:VTIMEZONE
TZID:Europe/Paris
BEGIN:DAYLIGHT
TZOFFSETFROM:+0100
TZOFFSETTO:+0200
TZNAME:CEST
DTSTART:20180325T010000
END:DAYLIGHT
BEGIN:STANDARD
TZOFFSETFROM:+0200
TZOFFSETTO:+0100
TZNAME:CET
DTSTART:20181028T010000
END:STANDARD
END:VTIMEZONE
BEGIN:VEVENT
DTSTART;TZID=Europe/Paris:20180213T180000
DTEND;TZID=Europe/Paris:20180213T180000
DTSTAMP:20260419T212244
CREATED:20180122T110100Z
LAST-MODIFIED:20180122T110100Z
UID:5261-1518544800-1518544800@villemorte.fr
SUMMARY:Nos Frontières
DESCRIPTION:Les inattendus présentent : Nos Frontières \nSamedi 3 février à 16h @ Médiathèque de Gerland \nMardi 13 février à 18h @ MJC Monplaisir (Festival Les Inattendus) \nMardi 27 février à 18h @ ENS Lyon / Amphi Descartes (Projections des films des ateliers 2015\, 2016\, 2017)
URL:https://villemorte.fr/agenda/nos-frontieres/
LOCATION:MJC Monplaisir\, 25 avenue des Frères Lumière\, LYON\, 69008
CATEGORIES:festival,projection
END:VEVENT
END:VCALENDAR