BEGIN:VCALENDAR
VERSION:2.0
PRODID:-//Ville Morte - ECPv5.12.4//NONSGML v1.0//EN
CALSCALE:GREGORIAN
METHOD:PUBLISH
X-WR-CALNAME:Ville Morte
X-ORIGINAL-URL:https://villemorte.fr
X-WR-CALDESC:évènements pour Ville Morte
BEGIN:VTIMEZONE
TZID:Europe/Paris
BEGIN:DAYLIGHT
TZOFFSETFROM:+0100
TZOFFSETTO:+0200
TZNAME:CEST
DTSTART:20190331T010000
END:DAYLIGHT
BEGIN:STANDARD
TZOFFSETFROM:+0200
TZOFFSETTO:+0100
TZNAME:CET
DTSTART:20191027T010000
END:STANDARD
END:VTIMEZONE
BEGIN:VEVENT
DTSTART;TZID=Europe/Paris:20191030T203000
DTEND;TZID=Europe/Paris:20191030T203000
DTSTAMP:20260422T163814
CREATED:20190917T085747Z
LAST-MODIFIED:20190917T085747Z
UID:10754-1572467400-1572467400@villemorte.fr
SUMMARY:Not Scientists x Johnny Mafia
DESCRIPTION:Ninkasi présente\, en collaboration avec Tous en Tong\nNOT SCIENTISTS & JOHNNY MAFIA (NKT#02)\nMercredi 30 octobre 2019 à 20h30\nNinkasi Gerland / Kafé\, 267 rue Marcel Mérieux\, Lyon 7e\nEntrée libre ▬▬▬▬▬ \nUn alignement des astres du rock’n’roll ? Un Beer-Pong qui aurait mal tourné ? Un ultimatum lancé par un prêteur sur gage ? Nul ne sait les motivations qui ont poussé ces jeunes gens à fomenter un tel projet maléfique mais le résultat est là. Depuis une date commune en janvier à Bourges\, NS + JM = AMOUR. \nOui\, deux des formations françaises les plus excitantes du moment ne se quittent plus. Au point de monter une tournée ensemble\, qui passera donc par le Ninkasi à Lyon\, et d’enregistrer un split. L’objet sera dispo fin octobre chez Kicking records et comportera deux inédits par groupe. Si vous ne connaissez pas le pedigree des deux formations\, petit rappel des forces en présence. \nLe groupe◢ NOT SCIENTISTS ◣ est né en 2013 sur les cendres de Uncommonmenfrommars. Ed et Jim (guitare-chants pour les deux) s’échappent aux côtés de Basile à la batterie (vu avec No Guts No Glory ou Supermunk) et Thibault à la basse\nDès le premier EP\, on sent l’envie de se démarquer d’un punk-rock mélodique traditionnel pour aller vers des contrées plus indie\, avec en ligne de mire One man army ou Superchunk. Le dernier album en date\, l’excellent « Golden Staples » sorti l’an dernier\, s’aventure même sur un terrain nostalgique qui fleure bon la pop des 80’s\, tout en gardant énergie et originalité.\nSur scène\, les quatre mettent tout le monde d’accord\, la technique et l’expérience se mettant au service de sets explosifs. \nOriginaire de Sens dans l’Yonne\, ◢ JOHNNY MAFIA ◣ a moins de kilomètres au compteur mais a su rattraper son retard. En déboulant au milieu des années 10\, il a accumulé les premières parties de prestige et a su se faire remarquer dans le milieu professionnel (Révélation Printemps de Bourges\, Le Fair\, etc.).\nNourris aux Oh Sees\, Fidlar\, Birth of joy et toute la nouvelle scène garage\, les Bourguignons ont prouvé qu’en France aussi on savait faire du rock’n’roll. Leur disque « Princes de l’amour » produit par Jim Diamond (White Stripes\, Dirtbombs\, Sonics) et sorti l’an dernier chez Dirty Water a fini d’enfoncer le clou.\nLa mafia sera de retour à Lyon sur le ring du Ninkasi pour un combat fraternel qui sent déjà la poudre ! \n— INFOS PRATIQUES\nNinkasi Gerland / Kafé\n267 rue Marcel Mérieux\, 69007 Lyon\nGratuit | Entrée libre\nPensez à désigner votre SAM pour rentrer en toute sécurité. \nDesign > Goo ltd \n▬\nwww.ninkasi.fr/\n#WeAreNinkasi
URL:https://villemorte.fr/agenda/not-scientists-x-johnny-mafia/
LOCATION:Ninkasi Gerland\, 267 rue Marcel Mérieux\, LYON\, 69007
CATEGORIES:musique live
END:VEVENT
END:VCALENDAR