BEGIN:VCALENDAR
VERSION:2.0
PRODID:-//Ville Morte - ECPv5.12.4//NONSGML v1.0//EN
CALSCALE:GREGORIAN
METHOD:PUBLISH
X-WR-CALNAME:Ville Morte
X-ORIGINAL-URL:https://villemorte.fr
X-WR-CALDESC:évènements pour Ville Morte
BEGIN:VTIMEZONE
TZID:Europe/Paris
BEGIN:DAYLIGHT
TZOFFSETFROM:+0100
TZOFFSETTO:+0200
TZNAME:CEST
DTSTART:20230326T010000
END:DAYLIGHT
BEGIN:STANDARD
TZOFFSETFROM:+0200
TZOFFSETTO:+0100
TZNAME:CET
DTSTART:20231029T010000
END:STANDARD
END:VTIMEZONE
BEGIN:VEVENT
DTSTART;TZID=Europe/Paris:20231201T200000
DTEND;TZID=Europe/Paris:20231201T200000
DTSTAMP:20260420T214437
CREATED:20231003T190800Z
LAST-MODIFIED:20231003T190800Z
UID:20971-1701460800-1701460800@villemorte.fr
SUMMARY:Nuovo Testamento
DESCRIPTION:Sonic Lyon présente:\nNuovo Testamento\n+ première partie\nvendredi 1er décembre 2023\n20h\n10€\nbilletterie\n\nNuovo Testamento (italo disco/synthpop\, IT/USA)\n\nNuovo Testamento is the Los Angeles & Bologna-based trio lighting up the dance floor with their uniquely dark italo disco-flavored pop hits. Following the release of the coldwave cult favorite Exposure EP in 2019 on Avant! Records\, their widely acclaimed full length New Earth exploded onto the dance floor. Including instant synthpop staple “the Searcher\,” alongside Hi-NRG homage “Michelle Michelle” and goth-tinged hits like “Golden Boy\,” New Earth is widely considered across genres to be one of 2021’s best underground albums of the year.
URL:https://villemorte.fr/agenda/nuovo-testamento/
LOCATION:Sonic\, 4 quai des Etroits\, Lyon\, 69005\, France
CATEGORIES:musique live
END:VEVENT
END:VCALENDAR