BEGIN:VCALENDAR
VERSION:2.0
PRODID:-//Ville Morte - ECPv5.12.4//NONSGML v1.0//EN
CALSCALE:GREGORIAN
METHOD:PUBLISH
X-WR-CALNAME:Ville Morte
X-ORIGINAL-URL:https://villemorte.fr
X-WR-CALDESC:évènements pour Ville Morte
BEGIN:VTIMEZONE
TZID:Europe/Paris
BEGIN:DAYLIGHT
TZOFFSETFROM:+0100
TZOFFSETTO:+0200
TZNAME:CEST
DTSTART:20230326T010000
END:DAYLIGHT
BEGIN:STANDARD
TZOFFSETFROM:+0200
TZOFFSETTO:+0100
TZNAME:CET
DTSTART:20231029T010000
END:STANDARD
END:VTIMEZONE
BEGIN:VEVENT
DTSTART;TZID=Europe/Paris:20231005T200000
DTEND;TZID=Europe/Paris:20231005T200000
DTSTAMP:20260420T172901
CREATED:20230905T185327Z
LAST-MODIFIED:20231003T182515Z
UID:20541-1696536000-1696536000@villemorte.fr
SUMMARY:Nürnberg + EYES AND LEGS
DESCRIPTION:NÜRNBERG\n\nNürnberg est un duo post-punk originaire de Minsk\, Biélorussie. \nLe travail du groupe est inspiré des problèmes sociaux des villes post-soviétiques\, mais aussi des conflits personnels du monde industriel moderne. En même temps\, il apporte une lueur d’espoir en transmettant des sentiments humains essentiels qui nous ramènent à notre capacité à ressentir compassion et amour.\nSa musique est minimaliste\, lunatique\, atmosphérique et énergique. Influencée par le son britannique post-punk / new-wave / coldwave des années 80\, elle est pleine de mélancolie\, de tristesse et de désolation\, accompagnée d’une réverbération subtile et profonde. \nLes rythmes martelés de la grosse caisse et les lignes de basse mélodiques créent un sentiment imminent de malaise\, d’introspection et d’impuissance\, tandis que la guitare sombre et nostalgique mène le flux continu\, courant et dansant avec des voix émotives et désolées dans une étreinte sombre comme la mort. \n \nEYES AND LEGS\nTrio post-punk lyonnais qui turbine à base de synthés rugueux et de basses tranchantes sur des rythmes tachychardiques\, obsessionnels. Dans un flot harsh sanglant et incessant\, une voix perce\, raconte l’histoire de celles qui arrachèrent les yeux de leurs orbites et lacérèrent les jambes à la fourchette.\n\nhttps://instagram.com/eyesandlegs_?igshid=YmMyMTA2M2Y=
URL:https://villemorte.fr/agenda/nurnberg-premiere-partie/
LOCATION:Sonic\, 4 quai des Etroits\, Lyon\, 69005\, France
CATEGORIES:musique live
END:VEVENT
END:VCALENDAR