BEGIN:VCALENDAR
VERSION:2.0
PRODID:-//Ville Morte - ECPv5.12.4//NONSGML v1.0//EN
CALSCALE:GREGORIAN
METHOD:PUBLISH
X-WR-CALNAME:Ville Morte
X-ORIGINAL-URL:https://villemorte.fr
X-WR-CALDESC:évènements pour Ville Morte
BEGIN:VTIMEZONE
TZID:Europe/Paris
BEGIN:DAYLIGHT
TZOFFSETFROM:+0100
TZOFFSETTO:+0200
TZNAME:CEST
DTSTART:20170326T010000
END:DAYLIGHT
BEGIN:STANDARD
TZOFFSETFROM:+0200
TZOFFSETTO:+0100
TZNAME:CET
DTSTART:20171029T010000
END:STANDARD
END:VTIMEZONE
BEGIN:VEVENT
DTSTART;TZID=Europe/Paris:20170218T210000
DTEND;TZID=Europe/Paris:20170218T210000
DTSTAMP:20260425T043257
CREATED:20170113T103337Z
LAST-MODIFIED:20170129T150537Z
UID:2913-1487451600-1487451600@villemorte.fr
SUMMARY:Sahara + Odessey & Oracle
DESCRIPTION:@ux Bons Sauvages \nSAHARA\nLes bordelais Jérémy Lacoste et Blandine Millepied mettent leur amour\, leurs quatre mains – lui à la basse\, elle à la guitare – et leurs deux voix au service d’une pop sensuelle et poétique où affleurent les influences d’une musique du monde métissée.\nIls s’entourent de leurs amis et musiciens Ariel Tintar (claviers\, chœurs) et Swann Vidal (batterie) pour constituer une formation « familiale » qui témoigne de leur besoin de fonctionner en tribu. Le tout leur permet d’affirmer un style plus brut et puissant sur scène\, et de jouer subtilement avec les dualités les plus extrêmes : le calme et la tempête\, la chaleur et les nuits glaciales\, la rondeur des sons et la brutalité des rythmes… \nhttps://www.youtube.com/watch?v=noV1PjSXMqI \nODESSEY and ORACLE\nLe trio est déjà de retour sur notre scène – jamais deux sans trois ! – cette fois-ci sans le clavecin et retour à l’électrique et peut-être même de nouveaux morceaux de la sophistiquée pop baroque dont ils ont le secret\, mais chut… \nhttps://www.youtube.com/watch?v=_NzT8YEq1hI
URL:https://villemorte.fr/agenda/odessey-oracle-sahara/
LOCATION:Aux Bons Sauvages\, 2 quai Jean Jacques Rousseau\, La Mulatière\, 69350\, France
CATEGORIES:musique live
END:VEVENT
END:VCALENDAR