BEGIN:VCALENDAR
VERSION:2.0
PRODID:-//Ville Morte - ECPv5.12.4//NONSGML v1.0//EN
CALSCALE:GREGORIAN
METHOD:PUBLISH
X-WR-CALNAME:Ville Morte
X-ORIGINAL-URL:https://villemorte.fr
X-WR-CALDESC:évènements pour Ville Morte
BEGIN:VTIMEZONE
TZID:Europe/Paris
BEGIN:DAYLIGHT
TZOFFSETFROM:+0100
TZOFFSETTO:+0200
TZNAME:CEST
DTSTART:20170326T010000
END:DAYLIGHT
BEGIN:STANDARD
TZOFFSETFROM:+0200
TZOFFSETTO:+0100
TZNAME:CET
DTSTART:20171029T010000
END:STANDARD
END:VTIMEZONE
BEGIN:VEVENT
DTSTART;TZID=Europe/Paris:20171210T190000
DTEND;TZID=Europe/Paris:20171210T190000
DTSTAMP:20260420T192049
CREATED:20171124T100952Z
LAST-MODIFIED:20171125T140201Z
UID:4931-1512932400-1512932400@villemorte.fr
SUMMARY:Osilasi + Odessey and Oracle
DESCRIPTION:@ Bal des Fringants \n\nOSILASI\nmusique répétitive\, bourdon et électricité – Violon à roue\, chant\, percussions\, harpe celtique.\n🎵 https://soundcloud.com/osilasi \nNouveau duo composé de Léa Roger (Guili Guili Goulag/Félon) et de Célia Jankowski (Vitas Guerulaïtis/Flies Rattle/collectif H.A.K.).\n\nInfluencé autant par les musiques traditionnelles que par les musiques électroniques\, OSILASI crée une narration aux contours extensibles. Les différents motifs articulés à partir des harmoniques générés se déploient dans le temps en fonction de l’espace et de l’expérience. Leur musique\, intérieure et physique\, joue sur les décalages rythmique et crée une modulation progressive dans la répétition. \nL’influence traditionnelle est passé à la moulinette et relevées à la sauce bruitiste et électronique. Tantôt sensibles\, tantôt fiévreux\, les motifs oscillent entre douceur poétique et expérimentation électronique et se déploient\, se transforment librement\, en fonction de la perception de l’instant. \nODESSEY AND ORACLE\nPop baroque\n🎵 https://soundcloud.com/odessey-and-oracle \nEmpruntant son nom à un album du groupe anglais The Zombies\, paru en 1968\, Odessey and Oracle continue d’explorer les voies tracées à la fin des années 60 par des groupes psychédéliques anglais et américains au style particulièrement fleuri\, parfois qualifié de « pop baroque ». Le trio s’inspire d’une certaine liberté de ces années optimistes où l’expérimentation était partout et les démarches hérétiques plébiscitées par la foule. \nPuisant leurs influences aussi bien dans le répertoire ancien (baroque\, médiéval\, renaissance) que dans les musiques électriques plus contemporaines\, le trio nous plonge dans un univers magique et délicat à mi-chemin entre deux époques. Les compositions aux arrangements élaborés laissent une grande place au contrepoint et à des instrumentations hybrides\, mobilisant instruments anciens (viole de gambe\, violoncelle baroque\, flûtes anciennes…) et spécimens plus modernes (pianos électromécaniques\, guitare\, dobro\, banjo\, synthétiseurs analogiques…). Avec une précision incroyable le trio lyonnais crée une pop expérimentale rafraîchissante et subtile\, avec des mélodies enchantées et lumineuses. \nFANNY L’HÉRITIER\, Voix\, violoncelle baroque\, piano électromécanique\nALICE BAUDOIN\, Clavecin électrique\, voix\nGUILLAUME MEDIONI\, Guitare\, banjo\, viole de gambe et voix \ncontact@lagitateuse.com // 09 84 30 56 34\nwww.lebaldesfringants.com
URL:https://villemorte.fr/agenda/osilasi-odessey-and-oracle/
LOCATION:Le bal des fringants\, 11 Rue du Bon-Pasteur\, lyon\, 69001\, France
CATEGORIES:musique live
ATTACH;FMTTYPE=image/jpeg:https://villemorte.fr/wp-content/uploads/2017/11/23905284_1445634828891124_1177793278516759846_n.jpg
END:VEVENT
END:VCALENDAR