BEGIN:VCALENDAR
VERSION:2.0
PRODID:-//Ville Morte - ECPv5.12.4//NONSGML v1.0//EN
CALSCALE:GREGORIAN
METHOD:PUBLISH
X-WR-CALNAME:Ville Morte
X-ORIGINAL-URL:https://villemorte.fr
X-WR-CALDESC:évènements pour Ville Morte
BEGIN:VTIMEZONE
TZID:Europe/Paris
BEGIN:DAYLIGHT
TZOFFSETFROM:+0100
TZOFFSETTO:+0200
TZNAME:CEST
DTSTART:20180325T010000
END:DAYLIGHT
BEGIN:STANDARD
TZOFFSETFROM:+0200
TZOFFSETTO:+0100
TZNAME:CET
DTSTART:20181028T010000
END:STANDARD
END:VTIMEZONE
BEGIN:VEVENT
DTSTART;TZID=Europe/Paris:20180601T200000
DTEND;TZID=Europe/Paris:20180601T200000
DTSTAMP:20260421T205107
CREATED:20180520T202639Z
LAST-MODIFIED:20180520T202639Z
UID:6511-1527883200-1527883200@villemorte.fr
SUMMARY:PALM + DOG CHOCOLATE + BONGO JOE DJS
DESCRIPTION:VEN 01/06 : PALM + DOG CHOCOLATE + BONGO JOE DJS\n\n Écrit par OkSuper\n\n\n  \n \n  \nhttps://www.youtube.com/watch?v=NaWtA9e-2XM\nhttps://palmnewyork.bandcamp.com/ \n  \n— plus d’info à venir —
URL:https://villemorte.fr/agenda/palm-dog-chocolate-bongo-joe-djs/
LOCATION:jesuisanxieux@gmail.com
CATEGORIES:musique live
END:VEVENT
END:VCALENDAR