BEGIN:VCALENDAR
VERSION:2.0
PRODID:-//Ville Morte - ECPv5.12.4//NONSGML v1.0//EN
CALSCALE:GREGORIAN
METHOD:PUBLISH
X-WR-CALNAME:Ville Morte
X-ORIGINAL-URL:https://villemorte.fr
X-WR-CALDESC:évènements pour Ville Morte
BEGIN:VTIMEZONE
TZID:Europe/Paris
BEGIN:DAYLIGHT
TZOFFSETFROM:+0100
TZOFFSETTO:+0200
TZNAME:CEST
DTSTART:20230326T010000
END:DAYLIGHT
BEGIN:STANDARD
TZOFFSETFROM:+0200
TZOFFSETTO:+0100
TZNAME:CET
DTSTART:20231029T010000
END:STANDARD
END:VTIMEZONE
BEGIN:VEVENT
DTSTART;TZID=Europe/Paris:20230824T190000
DTEND;TZID=Europe/Paris:20230824T190000
DTSTAMP:20260421T005716
CREATED:20230621T104826Z
LAST-MODIFIED:20230718T181626Z
UID:19828-1692903600-1692903600@villemorte.fr
SUMMARY:Pambélé + Sirco
DESCRIPTION:Ce sera l’occasion d’inaugurer les fresques réalisées lors des ateliers de pratiques artistiques avec de la musique colombienne pour danser\, encore et encore ! \nconcert en extérieur à prix libre + buvette et petite restauration : attention NO CB
URL:https://villemorte.fr/agenda/pambele-sirco/
LOCATION:Les Grandes Voisines\, 40 avenue de la Table de Pierre\, Francheville\, 69340\, France
CATEGORIES:musique live
END:VEVENT
END:VCALENDAR