BEGIN:VCALENDAR
VERSION:2.0
PRODID:-//Ville Morte - ECPv5.12.4//NONSGML v1.0//EN
CALSCALE:GREGORIAN
METHOD:PUBLISH
X-WR-CALNAME:Ville Morte
X-ORIGINAL-URL:https://villemorte.fr
X-WR-CALDESC:évènements pour Ville Morte
BEGIN:VTIMEZONE
TZID:Europe/Paris
BEGIN:DAYLIGHT
TZOFFSETFROM:+0100
TZOFFSETTO:+0200
TZNAME:CEST
DTSTART:20220327T010000
END:DAYLIGHT
BEGIN:STANDARD
TZOFFSETFROM:+0200
TZOFFSETTO:+0100
TZNAME:CET
DTSTART:20221030T010000
END:STANDARD
END:VTIMEZONE
BEGIN:VEVENT
DTSTART;TZID=Europe/Paris:20220610T220000
DTEND;TZID=Europe/Paris:20220610T220000
DTSTAMP:20260423T110631
CREATED:20220518T114752Z
LAST-MODIFIED:20220518T114752Z
UID:15863-1654898400-1654898400@villemorte.fr
SUMMARY:Paper Melody : soirée de soutien au sal00n d'édition
DESCRIPTION:********** Soirée de soutien au sal00n d’édition **********\n \n10 juin \n22h — 5h \n\nUne fête pour récolter les fonds qui serviront à financer\nl’organisation d’un sal00n d’édition les 24 et 25 septembre au Grrrnd Zero.\n\n\n\n\n\n\n\n\n\n\n\n\n\n\n\n\n\n\n\n\n\n\n\n\n\n\n\n\n\n\n\n\n\n\n\navec\n\n\n\n\n\n\n\n\n\n\n\n\n\n\n\n\n\n\n\n\n\n\n\n\n\n\n\n\n\n\n\n\n\n\n\n\n\n\n\n\n\n\n\n\n\n\n\n\n\n\n\n\n\n\n\n\n\n\n\n\n\n\n\n\n\n\n\n\n\n\n\n\n\n\n\n\n\n\nSirhaine  live rap emo ( https://soundcloud.com/sirhaine )\n\n\n\n\n\n\n\n\n\n\n\n\n\n\n\n\n\n\n\n\n\n\n\n\n\n\n\n\n\n\n\n\n\n\n\n\n\n\n\n\nParhelic Shell  live “techno” texturée et aventureuse ( https://soundcloud.com/parhelic_shell )\n\n\n\n\n\n\n\n\n\n\n\n\n\n\n\n\n\n\n\n\n\n\n\n\n\n\n\n\n\n\n\n\n\n\n\n\n\n\n\n\nStacktrace  dub\, bass et dancehall ( https://soundcloud.com/stacktracedub )\n\n\n\n\n\n\n\n\n\n\n\n\n\n\n\n\n\n\n\n\n\n\n\n\n\n\n\n\n\n\n\n\n\n\n\n\n\n\n\n\nPardon F2F Matos Bonnito  dj set de post club à 4 mains et 4 platines\n\n\n\n\n\n\n\n\n\n\n\n\n\n\n\n\n\n\n\n\n\n\n\n\n\n\n\n\n\n\n\n\n\n\n\n\n\n\n\n\nemma get lost  dj set electronica expérimentale\n\n\n\n\n\n\n\n\n\n\n\n\n\n\n\n\n\n\n\n\n\n\n\n\n\n\n\n\n\n\n\n\n\n\n\n\n\n\n\n\nTera Octe  hardstyle revisité ( https://prrprr.bandcamp.com/album/- )\n\n\n\n\n\n\n\n\n\n\n\n\n\n\n\n\n\n\n\n\n\n\n\n\n\n\n\n\n\n\n\n\n\n\n\n\n********** Affiches à vendre à prix libre sur place **********\nbières blondes et blanches\, punch & gros choix de softs\n\nPrix conseillé 5€ / Prix de soutien (entrée + affiche) 8€\n\nGrrrnd Zero / 60 avenue de Bohlen/ 69120 Vaulx-en-Velin\n\nhttps://www.grrrndzero.org/
URL:https://villemorte.fr/agenda/paper-melody-soiree-de-soutien-au-sal00n-dedition/
LOCATION:Grrrnd Zero\, 60\, avenue de Bohlen\, Vaulx en Velin\, 69120
CATEGORIES:DJ Set,musique live,soirée de soutien
END:VEVENT
END:VCALENDAR