BEGIN:VCALENDAR
VERSION:2.0
PRODID:-//Ville Morte - ECPv5.12.4//NONSGML v1.0//EN
CALSCALE:GREGORIAN
METHOD:PUBLISH
X-WR-CALNAME:Ville Morte
X-ORIGINAL-URL:https://villemorte.fr
X-WR-CALDESC:évènements pour Ville Morte
BEGIN:VTIMEZONE
TZID:Europe/Paris
BEGIN:DAYLIGHT
TZOFFSETFROM:+0100
TZOFFSETTO:+0200
TZNAME:CEST
DTSTART:20160327T010000
END:DAYLIGHT
BEGIN:STANDARD
TZOFFSETFROM:+0200
TZOFFSETTO:+0100
TZNAME:CET
DTSTART:20161030T010000
END:STANDARD
END:VTIMEZONE
BEGIN:VEVENT
DTSTART;TZID=Europe/Paris:20161006T203000
DTEND;TZID=Europe/Paris:20161006T203000
DTSTAMP:20260422T133349
CREATED:20160921T100503Z
LAST-MODIFIED:20160921T100503Z
UID:2282-1475785800-1475785800@villemorte.fr
SUMMARY:Papooz+The Pirouettes
DESCRIPTION:@Epicerie Moderne \nCe soir l’épicerie ouvre ses portes au renouveau de la pop française pour un co-plateau aventureux. \nD’un côté\, The Pirouettes\, qui jouera dans sa version groupe pour présenter ses chansons inspirées de la variété des années 80 et de ses sons électroniques simples mais réellement sincères. \nDe l’autre\, Papooz qui avec son album « Green juice » vient de sortir une des plus belles réussite de la scène pop française\, entre douce mélancolie jazz de lendemain de fête\, voyage psychédélique et inspirations plus joyeuses\, inclassable et profondément inspiré.
URL:https://villemorte.fr/agenda/papoozthe-pirouettes/
LOCATION:L’Épicerie Moderne\, Place René Lescot\, Feyzin\, 69320\, France
CATEGORIES:musique live
ATTACH;FMTTYPE=image/jpeg:https://villemorte.fr/wp-content/uploads/2016/09/csm_PapoozSite_74b3311e45.jpg
END:VEVENT
END:VCALENDAR