BEGIN:VCALENDAR
VERSION:2.0
PRODID:-//Ville Morte - ECPv5.12.4//NONSGML v1.0//EN
CALSCALE:GREGORIAN
METHOD:PUBLISH
X-WR-CALNAME:Ville Morte
X-ORIGINAL-URL:https://villemorte.fr
X-WR-CALDESC:évènements pour Ville Morte
BEGIN:VTIMEZONE
TZID:Europe/Paris
BEGIN:DAYLIGHT
TZOFFSETFROM:+0100
TZOFFSETTO:+0200
TZNAME:CEST
DTSTART:20240331T010000
END:DAYLIGHT
BEGIN:STANDARD
TZOFFSETFROM:+0200
TZOFFSETTO:+0100
TZNAME:CET
DTSTART:20241027T010000
END:STANDARD
END:VTIMEZONE
BEGIN:VEVENT
DTSTART;TZID=Europe/Paris:20240218T183000
DTEND;TZID=Europe/Paris:20240218T183000
DTSTAMP:20260423T020519
CREATED:20240117T213850Z
LAST-MODIFIED:20240117T213850Z
UID:22682-1708281000-1708281000@villemorte.fr
SUMMARY:Persefone + Hypno5e + Stellar Circuits + Lampr3a
DESCRIPTION:Persefone\n\nhttps://www.facebook.com/persefoneband\nhttps://access-live.net/artistes/persefone \n\nHypno5e\n\nhttps://www.facebook.com/hypno5e\nhttps://access-live.net/artistes/hypno5e \n\nStellar Circuits\n\nhttps://www.facebook.com/stellarcircuits\nhttps://access-live.net/artistes/stellar-circuits \n\nLampr3a\n\nhttps://www.facebook.com/lampr3a\nhttps://access-live.net/artistes/lampr3a
URL:https://villemorte.fr/agenda/persefone-hypno5e-stellar-circuits-lampr3a/
LOCATION:Rock n Eat\, 32 Quai Arloing\, Lyon\, 69009
CATEGORIES:musique live
END:VEVENT
END:VCALENDAR