BEGIN:VCALENDAR
VERSION:2.0
PRODID:-//Ville Morte - ECPv5.12.4//NONSGML v1.0//EN
CALSCALE:GREGORIAN
METHOD:PUBLISH
X-WR-CALNAME:Ville Morte
X-ORIGINAL-URL:https://villemorte.fr
X-WR-CALDESC:évènements pour Ville Morte
BEGIN:VTIMEZONE
TZID:Europe/Paris
BEGIN:DAYLIGHT
TZOFFSETFROM:+0100
TZOFFSETTO:+0200
TZNAME:CEST
DTSTART:20230326T010000
END:DAYLIGHT
BEGIN:STANDARD
TZOFFSETFROM:+0200
TZOFFSETTO:+0100
TZNAME:CET
DTSTART:20231029T010000
END:STANDARD
END:VTIMEZONE
BEGIN:VEVENT
DTSTART;TZID=Europe/Paris:20230204T220000
DTEND;TZID=Europe/Paris:20230204T220000
DTSTAMP:20260422T202818
CREATED:20230116T201506Z
LAST-MODIFIED:20230116T201506Z
UID:18241-1675548000-1675548000@villemorte.fr
SUMMARY:Physics #16 : Sota & more
DESCRIPTION:Pour cette première PHYSICS de 2023 accrochez vous bien car on reçoit le petit prince de la jump up anglaise aka SOTA pour la toute première fois en France ! 🥵\nRepéré en 2019 par le label LOW DOWN DEEP\, sa progression est depuis fulgurante. Il enchaine les grosses releases et les line ups de festival. Ses tracks sont jouées par les grands noms de la scène et il n’a certainement pas fini de faire parler de lui. \nOn a hâte de l’accueillir à Lyon et de lui montrer qu’ici aussi on sait y faire en matière de drum and bass. \nPour l’accompagner on a réuni de valeureux soldats qui garantiront une soirée full spectrum comme on a l’habitude de faire chez Physical Tool : Reko\, Cho.\, Nataskank\, PRZ et Mauroz ! \n2023 peut officiellement commencer \n\nSOTA (LOW DOWN DEEP – ROYAUME-UNI) : https://soundcloud.com/so_ta\nREKO (MKJ – Grenoble) : https://soundcloud.com/rekodnb\nCHO. (Lyon) : https://soundcloud.com/chossure/tracks\nNATASKANK (Physical Tool – Lyon) : https://soundcloud.com/nataskank\nPRZ (Physical Tool – Lyon) : https://soundcloud.com/prxzepam\nMAUROZ (Physical Tool – Lyon) : https://soundcloud.com/maurozdnb\n\n\nPHYSICAL TOOL \n\nFB : https://www.facebook.com/physicaltoolcrew\nSC : https://soundcloud.com/physical-tool\nIG : https://www.instagram.com/physicaltool\nWEB : https://physicaltool.fr
URL:https://villemorte.fr/agenda/physics-16-sota-more/
LOCATION:Loupika\, 47\, quai Rambaud\, Lyon\, 69002\, France
CATEGORIES:DJ Set
END:VEVENT
END:VCALENDAR