BEGIN:VCALENDAR
VERSION:2.0
PRODID:-//Ville Morte - ECPv5.12.4//NONSGML v1.0//EN
CALSCALE:GREGORIAN
METHOD:PUBLISH
X-WR-CALNAME:Ville Morte
X-ORIGINAL-URL:https://villemorte.fr
X-WR-CALDESC:évènements pour Ville Morte
BEGIN:VTIMEZONE
TZID:Europe/Paris
BEGIN:DAYLIGHT
TZOFFSETFROM:+0100
TZOFFSETTO:+0200
TZNAME:CEST
DTSTART:20180325T010000
END:DAYLIGHT
BEGIN:STANDARD
TZOFFSETFROM:+0200
TZOFFSETTO:+0100
TZNAME:CET
DTSTART:20181028T010000
END:STANDARD
END:VTIMEZONE
BEGIN:VEVENT
DTSTART;TZID=Europe/Paris:20181130T203000
DTEND;TZID=Europe/Paris:20181130T203000
DTSTAMP:20260419T224047
CREATED:20181021T201610Z
LAST-MODIFIED:20181021T201610Z
UID:7402-1543609800-1543609800@villemorte.fr
SUMMARY:Plantae ✚ Crystal Dinosaurs
DESCRIPTION:@ Le Farmer \n// Le Farmer présente :\nPLANTAE ✚ CRYSTAL DINOSAURS\nVendredi 30 novembre • 20h30 • Prix libre\n❤ Cheval de Frise\, Faraquet\, Upsilon Acrux\, Chevreuil\, 37500 Yens\, Mogwai\, Honey For Petzi\, From Monument to Masses\, Russian Circles.. \n• PLANTAE (prog math rock – Lyon)\nPlantae est le rassemblement de deux botanistes en herbe désireux de créer de nouveaux spécimens de grooves asymétriques.\nEn 2017\, Plantae enregistre sa première démo sous la forme d’un trio puisant ses racines dans le post-rock\, avant de devenir un duo se consacrant à une musique plus progressive.\nFB https://www.facebook.com/Plantaelyon/\nBC https://plantae.bandcamp.com/ \n• CRYSTAL DINOSAURS (sci-fi power duo – Lyon)\nJacques Joly : Basse électrique\, effets électro-magnétiques\, distorsions spatio-temporelles.\nLéa Fernandez : Batterie\, percussions\, déluges de poneys cosmiques et de licornes inter-dimensionnelles.\nFB https://www.facebook.com/crystaldinosaurs/\nYT https://www.youtube.com/watch?v=bjppyqs6FUs \n🕣 20h30\n💸 PRIX LIBRE (recettes 100% reversées aux groupes)\n🚴‍ LE FARMER – 14 montée des Carmélites – 69001 LYON
URL:https://villemorte.fr/agenda/plantae-%e2%9c%9a-crystal-dinosaurs/
LOCATION:Le Farmer\, 14 montée des Carmélites\, Lyon\, France
CATEGORIES:musique live
ATTACH;FMTTYPE=image/jpeg:https://villemorte.fr/wp-content/uploads/2018/10/41300419_1792792130839941_1809730164326662144_n.jpg
END:VEVENT
END:VCALENDAR