BEGIN:VCALENDAR
VERSION:2.0
PRODID:-//Ville Morte - ECPv5.12.4//NONSGML v1.0//EN
CALSCALE:GREGORIAN
METHOD:PUBLISH
X-WR-CALNAME:Ville Morte
X-ORIGINAL-URL:https://villemorte.fr
X-WR-CALDESC:évènements pour Ville Morte
BEGIN:VTIMEZONE
TZID:Europe/Paris
BEGIN:DAYLIGHT
TZOFFSETFROM:+0100
TZOFFSETTO:+0200
TZNAME:CEST
DTSTART:20220327T010000
END:DAYLIGHT
BEGIN:STANDARD
TZOFFSETFROM:+0200
TZOFFSETTO:+0100
TZNAME:CET
DTSTART:20221030T010000
END:STANDARD
END:VTIMEZONE
BEGIN:VEVENT
DTSTART;TZID=Europe/Paris:20220224T200000
DTEND;TZID=Europe/Paris:20220224T230000
DTSTAMP:20260425T223031
CREATED:20211128T113355Z
LAST-MODIFIED:20211128T113355Z
UID:14301-1645732800-1645743600@villemorte.fr
SUMMARY:Ploho
DESCRIPTION:Ploho (Post Punk / Russie ) // prod Sputnik
URL:https://villemorte.fr/agenda/ploho/
LOCATION:Sonic\, 4 quai des Etroits\, Lyon\, 69005\, France
CATEGORIES:musique live
END:VEVENT
END:VCALENDAR