BEGIN:VCALENDAR
VERSION:2.0
PRODID:-//Ville Morte - ECPv5.12.4//NONSGML v1.0//EN
CALSCALE:GREGORIAN
METHOD:PUBLISH
X-WR-CALNAME:Ville Morte
X-ORIGINAL-URL:https://villemorte.fr
X-WR-CALDESC:évènements pour Ville Morte
BEGIN:VTIMEZONE
TZID:Europe/Paris
BEGIN:DAYLIGHT
TZOFFSETFROM:+0100
TZOFFSETTO:+0200
TZNAME:CEST
DTSTART:20220327T010000
END:DAYLIGHT
BEGIN:STANDARD
TZOFFSETFROM:+0200
TZOFFSETTO:+0100
TZNAME:CET
DTSTART:20221030T010000
END:STANDARD
END:VTIMEZONE
BEGIN:VEVENT
DTSTART;VALUE=DATE:20220325
DTEND;VALUE=DATE:20220328
DTSTAMP:20260423T215833
CREATED:20220212T134215Z
LAST-MODIFIED:20220313T161608Z
UID:14633-1648166400-1648425599@villemorte.fr
SUMMARY:Pluie de Météorites
DESCRIPTION:PLUIE DE METEORITES 2\nUn VSD à l’Elysée\n25-26-27 mars 2022\n\n\n\nLe collectif Météorites depuis bientôt 5 ans défend le cinéma\, les films indépendants\, cultes\, chelous\, sans le sou\, documentaires\, fictions\, œuvres sonores ou en cours de fabrication…dans des cinémas parfois\, plus souvent dans d’autres lieux. Au théâtre de l’Elysée par exemple et sur 3 jours\, le temps d’un week-end où cinéma\, musique et nourritures cosmiques formeront un essaim\, une pluie d’étoiles filantes et de lumières sur la ville. \nMontrer dans tous les formats (priorité à l’analogique\, bandes et cassettes) des films et des œuvres qu’on aime\, inviter des auteur.es sympas qu’on aime aussi\, s’adresser aux petits\, satisfaire les grands et nourrir chacun. Le tout à prix libre\, l’esprit festif\, sans pass\, ni strass.\n\n\nOù?\nThéâtre de l’Élysée\n14 rue Basse-Combalot\nGuillotière de Lyon\n\nProgramme\n\n\nVendredi\n\nOUVERTURE DES PORTES à 19h\n-en salle-\n21H :\nS’en fout la mort\nde Claire Denis\n1990 – 90′\nEn 35 mm\n+ court métrage\nTarifs 3-5 euros\n\n\n-au bar-\n\n\nK7 & Paillettes (live set)\n\n \nSamedi\n \n-en salle-\n\n\n\n\n10h : Matin Bambins\nLes comètes fluos (avec peut-être la présence de Thomas Pesquet)\n+ goûter des enfants\nPrix libre\n \n14h : Documentaire\n\nMasse Mystique\n\nde Karim H.Haroun\n2014 – 75′\n+ échange avec le réalisateur\nTarifs 3-5 euros \n\n16h : Création radiophonique\nVille Souterraine\nde Marc Antoine Granier\n2019 – 50′\nTarifs 3-5 euros\n\n\n18h : Courts-métrages\n« Comment faire pour ? »\n2018 – 45’\nEt\n« Comment faire pour? 2\n2020 – 45’\n\n2 films de Jules Follet en sa présence\n(Carte blanche à Des courts l’après-midi\, Marseille)\nTarifs 3-5 euros\n\n\n\n\nSoirée Video Tape Club\n80’s\, adolescence\, passage à l’heure d’été\n\n-en salle-\n \n20h30\nTe souviens-tu de Dolly Bell ?\nde Emir Kusturica\n1981\n110′\nTarifs 3-5 euros\n \n23h : Cinéma de Minuit\nL’enfer des armes \nde Tsui-Hark\n1981 – 95′\nTarifs 3-5 euros\n \n\nDimanche\n-en salle-\n15h: \nLa Région centrale \nde Mickael Snow\nEn 16 mm\n3h\n\n« Sortie de la salle à la fois lessivée et dans un état d’apesanteur indescriptible. Il s’agit typiquement de l’état dans lequel on se trouve après avoir longuement fait l’amour » \nStéfani de Loppinot\n \n\nTarif unique 5 euros\n\n-au salon-\nEcoute collective\n\n+ cuisine partagée
URL:https://villemorte.fr/agenda/pluie-de-meteorites/
LOCATION:Théâtre de l’Elysée\, 14 rue Basse Combalot\, LYON\, 69007
CATEGORIES:festival,projection
ATTACH;FMTTYPE=image/jpeg:https://villemorte.fr/wp-content/uploads/2022/02/meteorites_pluie2-scaled.jpg
END:VEVENT
END:VCALENDAR