BEGIN:VCALENDAR
VERSION:2.0
PRODID:-//Ville Morte - ECPv5.12.4//NONSGML v1.0//EN
CALSCALE:GREGORIAN
METHOD:PUBLISH
X-WR-CALNAME:Ville Morte
X-ORIGINAL-URL:https://villemorte.fr
X-WR-CALDESC:évènements pour Ville Morte
BEGIN:VTIMEZONE
TZID:Europe/Paris
BEGIN:DAYLIGHT
TZOFFSETFROM:+0100
TZOFFSETTO:+0200
TZNAME:CEST
DTSTART:20220327T010000
END:DAYLIGHT
BEGIN:STANDARD
TZOFFSETFROM:+0200
TZOFFSETTO:+0100
TZNAME:CET
DTSTART:20221030T010000
END:STANDARD
END:VTIMEZONE
BEGIN:VEVENT
DTSTART;TZID=Europe/Paris:20220423T203000
DTEND;TZID=Europe/Paris:20220423T203000
DTSTAMP:20260425T172248
CREATED:20220420T103920Z
LAST-MODIFIED:20220420T103920Z
UID:15618-1650745800-1650745800@villemorte.fr
SUMMARY:POWERSOLO   + Elastic heads
DESCRIPTION:SAM 23 AVRIL\, 20H30 // Le Sonic // 10/12 euros \nPOWERSOLO (Garage rock heroes / Danemark) + Elastic heads (lofi garage power-pop\, Lyon)\nVoilà plus de 20 ans que Kim Jeppesen dit « Kix »\, créature rock’n’roll d’un autre temps\, roule sa bosse pour servir ses riffs tordus et son phrasé légendaire à toutes les sauces (surf\, garage\, punk\, psycho\, psyché\, blues\, country…). Pendant longtemps\, Powersolo fût une prolifique affaire de famille (en duo avec son frère Bo)\, fer de lance d’une scène garage européenne qui arrivera au sommet de son art au milieu des années 2000 (The Monsters\, Movie Star Junkies\, Magnetix…).\nAujourd’hui\, c’est une affaire de gros bras\, où Kix s’est entouré de Peasoup le « casseur de cordes »\, et J.C. Benz\, batteur d’origine de Powersolo et marteleur en chef d’un certain Jon Spencer dans Heavy Trash. Heureusement\, les nombreux changements de line-up n’ont jamais altéré le talent de composition\, la furie et le fun du trio\, trois composants qui font qu’un disque de Powersolo est toujours un bon disque\, et qu’un concert des danois est toujours un moment où le corps se lâche et se fait happer par la folie contagieuse de Kik.\nPowersolo\, enfin\, c’est une histoire commune avec Tous En Tong\, puisque le groupe avait participé à notre compilation vinyle sortie en 2015 à l’occasion de nos 20 ans. Pour ouvrir les hostilités\, on retrouvera The Elastic Heads\, composés de Charles Rowell de Crocodiles et 3/5 de nos local heroes The Horsebites. \nMike Mailman @pentagram_pizza
URL:https://villemorte.fr/agenda/powersolo-elastic-heads/
LOCATION:Sonic\, 4 quai des Etroits\, Lyon\, 69005\, France
CATEGORIES:musique live
END:VEVENT
END:VCALENDAR