BEGIN:VCALENDAR
VERSION:2.0
PRODID:-//Ville Morte - ECPv5.12.4//NONSGML v1.0//EN
CALSCALE:GREGORIAN
METHOD:PUBLISH
X-WR-CALNAME:Ville Morte
X-ORIGINAL-URL:https://villemorte.fr
X-WR-CALDESC:évènements pour Ville Morte
BEGIN:VTIMEZONE
TZID:Europe/Paris
BEGIN:DAYLIGHT
TZOFFSETFROM:+0100
TZOFFSETTO:+0200
TZNAME:CEST
DTSTART:20220327T010000
END:DAYLIGHT
BEGIN:STANDARD
TZOFFSETFROM:+0200
TZOFFSETTO:+0100
TZNAME:CET
DTSTART:20221030T010000
END:STANDARD
END:VTIMEZONE
BEGIN:VEVENT
DTSTART;TZID=Europe/Paris:20220611T160000
DTEND;TZID=Europe/Paris:20220611T210000
DTSTAMP:20260423T091445
CREATED:20220601T152817Z
LAST-MODIFIED:20220601T152817Z
UID:16038-1654963200-1654981200@villemorte.fr
SUMMARY:Pulsa'Mix# 7
DESCRIPTION:Nom : Pulsa’Mix# 7\nDate : Samedi 11 Juin 2022\nLieu : Place Colbert Lyon 1er\nHoraires : 16h à 21h \nProg : Forro da GasoLina (Bal Forro Nice/ Montpellier)\nLes Batoukailleurs (Batucada Lyon )\nLa Bat’Afrika (Batucada Lyon) \nEvénement de l’Association « PULSARE » organisé en collaboration avec le bar « L’Ane Sans Queue » et le Festival « Brasilyon ».
URL:https://villemorte.fr/agenda/pulsamix-7/
LOCATION:Place Colbert\, LYON\, 69001
CATEGORIES:musique live
END:VEVENT
END:VCALENDAR