BEGIN:VCALENDAR
VERSION:2.0
PRODID:-//Ville Morte - ECPv5.12.4//NONSGML v1.0//EN
CALSCALE:GREGORIAN
METHOD:PUBLISH
X-WR-CALNAME:Ville Morte
X-ORIGINAL-URL:https://villemorte.fr
X-WR-CALDESC:évènements pour Ville Morte
BEGIN:VTIMEZONE
TZID:Europe/Paris
BEGIN:DAYLIGHT
TZOFFSETFROM:+0100
TZOFFSETTO:+0200
TZNAME:CEST
DTSTART:20190331T010000
END:DAYLIGHT
BEGIN:STANDARD
TZOFFSETFROM:+0200
TZOFFSETTO:+0100
TZNAME:CET
DTSTART:20191027T010000
END:STANDARD
END:VTIMEZONE
BEGIN:VEVENT
DTSTART;TZID=Europe/Paris:20190413T183000
DTEND;TZID=Europe/Paris:20190413T183000
DTSTAMP:20260424T014315
CREATED:20190320T011738Z
LAST-MODIFIED:20190320T011738Z
UID:9114-1555180200-1555180200@villemorte.fr
SUMMARY:Raoul Vignal (showcase)
DESCRIPTION:Samedi 13 avril : Raoul Vignal\, en showcase – 18h30\nC’est une sérénité\, une assurance nouvelle que l’on ressent à l’écoute de ce nouvel album « Oak Leaf ». Une tendre mélancolie certes\, mais entre les lignes\, et parmi les mots\, une sagesse et une force intérieure salvatrice.
URL:https://villemorte.fr/agenda/raoul-vignal-showcase/
LOCATION:Tiki Vinyl Store\, 13 rue Leynaud\, LYON\, 69001
CATEGORIES:musique live
END:VEVENT
END:VCALENDAR