BEGIN:VCALENDAR
VERSION:2.0
PRODID:-//Ville Morte - ECPv5.12.4//NONSGML v1.0//EN
CALSCALE:GREGORIAN
METHOD:PUBLISH
X-WR-CALNAME:Ville Morte
X-ORIGINAL-URL:https://villemorte.fr
X-WR-CALDESC:évènements pour Ville Morte
BEGIN:VTIMEZONE
TZID:Europe/Paris
BEGIN:DAYLIGHT
TZOFFSETFROM:+0100
TZOFFSETTO:+0200
TZNAME:CEST
DTSTART:20180325T010000
END:DAYLIGHT
BEGIN:STANDARD
TZOFFSETFROM:+0200
TZOFFSETTO:+0100
TZNAME:CET
DTSTART:20181028T010000
END:STANDARD
END:VTIMEZONE
BEGIN:VEVENT
DTSTART;TZID=Europe/Paris:20180119T210000
DTEND;TZID=Europe/Paris:20180119T210000
DTSTAMP:20260422T163940
CREATED:20171106T163830Z
LAST-MODIFIED:20171106T163830Z
UID:4842-1516395600-1516395600@villemorte.fr
SUMMARY:Raoul Vignal + Zacharie
DESCRIPTION:▪️ Raoul Vignal › Talitres\nhttps://www.facebook.com/raoulvignalmusic/\nhttps://soundcloud.com/raoulvignal/ \nDe 2010 à aujourd’hui\, Raoul Vignal a joué une musique folk moderne et authentique. Sa voix apaisante et son doigté délicat sur sa guitare sont sa marque de fabrique. Sa musique est souvent décrite par son public comme fascinante et entrainante.\nRapidement après la naissance de son projet solo à l’âge de 20 ans\, Raoul a débuté ses performances live dans des salles et festivals à travers la France\, lui donnant une forte expérience de soliste.\nEn 2013\, le jeune musicien a quitté sa ville natale Lyon pour Berlin oú il passa 2 ans à écrire et chanter\, jouant dans de nombreuses salles de la capitale allemande.\nIl a enregistré son LP « The Silver Veil » au Klangbild Studios à Berlin fin 2015\, avec 10 chansons qui montrent un style acoustique intense\, porté par des compositions épurées et une légère touche nostalgique.\nL’album « The Silver Veil » est sorti sur le label français Talitres le 7 avril 2017. \n▪️ Zacharie > Z Production\nhttps://www.facebook.com/Zacharie-309311355927092/\nhttps://www.zacharie-officiel.com/ \nParfois brut mais toujours délicat\, accessible et pourtant travaillé\, le folk-blues de Zacharie s’écoute à plusieurs niveaux. Car chez Zacharie la poésie de l’artiste s’allie à la modestie de l’artisan. L’air de rien\, ses mélodies ne vous quittent plus\, ses rythmes persistent bien après l’écoute et vous voilà en douce compagnie : des gâteaux du dimanche\, la douceur du sucre et l’amertume de l’amour\, un ours géant\, un lion\, une nuée d’oiseaux ou bien encore les roses et les mensonges que l’on offre à celle que l’on aime.\n▬▬▬▬▬ \nINFOS PRATIQUES \n✖️Billetterie : http://bit.ly/2lWekOm\n✖️Tarif : 8€\n✖️Ouverture du bar : 18h\n✖️Ouverture de la salle de concert : 20h\n✖️Concert : 21h – 1h \nEntrée réservée aux personnes majeures. En cas de doute\, une pièce d’identité pourra être exigée à l’entrée. \nPlus d’infos sur www.groomlyon.com
URL:https://villemorte.fr/agenda/raoul-vignal-zacharie/
LOCATION:Groom\, 6 rue roger violi\, Lyon\, 69001\, France
CATEGORIES:musique live
ATTACH;FMTTYPE=image/jpeg:https://villemorte.fr/wp-content/uploads/2017/11/23316826_389116341509034_3395970910732096888_n.jpg
END:VEVENT
END:VCALENDAR