BEGIN:VCALENDAR
VERSION:2.0
PRODID:-//Ville Morte - ECPv5.12.4//NONSGML v1.0//EN
CALSCALE:GREGORIAN
METHOD:PUBLISH
X-WR-CALNAME:Ville Morte
X-ORIGINAL-URL:https://villemorte.fr
X-WR-CALDESC:évènements pour Ville Morte
BEGIN:VTIMEZONE
TZID:Europe/Paris
BEGIN:DAYLIGHT
TZOFFSETFROM:+0100
TZOFFSETTO:+0200
TZNAME:CEST
DTSTART:20250330T010000
END:DAYLIGHT
BEGIN:STANDARD
TZOFFSETFROM:+0200
TZOFFSETTO:+0100
TZNAME:CET
DTSTART:20251026T010000
END:STANDARD
END:VTIMEZONE
BEGIN:VEVENT
DTSTART;TZID=Europe/Paris:20250403T173000
DTEND;TZID=Europe/Paris:20250403T173000
DTSTAMP:20260423T050024
CREATED:20250313T163557Z
LAST-MODIFIED:20250313T163609Z
UID:28209-1743701400-1743701400@villemorte.fr
SUMMARY:Re-créons nos traditions !
DESCRIPTION:Festival Récif : \nRe-créons nos traditions ! \nDébat-Table ronde \n\nUn échange sur les croisements entre musiques traditionnelles et créations contemporaines \nLa tradition est-elle figée ou en perpétuelle mutation ? Plutôt que de la voir comme un héritage immuable\, cette rencontre propose d’explorer ses évolutions\, ses réinterprétations et son potentiel créatif. Comment les musiques traditionnelles dialoguent-elles avec les formes contemporaines d’aujourd’hui ? Un échange autour de la continuité\, de l’adaptation et de la métamorphose en musique. \nAvec : \n\nRomain Baudoin (membre fondateur du projet Arrehar et vielliste du groupe Artús)\nMarion Cousin (traductrice de théâtre espagnol\, collectrice de chansons traditionnelles ibériques\, musicienne expérimentale)\nErnest Bergez (musicien expérimental\, membre de Kaumwald\, Sourdure\, Orgue Agnès\, Tanz Mein Herz)\nClément Verceletto (musicien expérimental\, membre de Kaumwald\, Sarah Terral\, L’Engoulevent\, Orgue Agnès…)\n\n\nMarion Cousin et Kaumwald se produiront en concert le vendredi 4 avril à 19h en prélude au Périscope. \nEntrée libre dans la limite des places disponibles · Archives Municipales de la Ville de Lyon\, 1 place des archives\, 69002 Lyon\, France
URL:https://villemorte.fr/agenda/re-creons-nos-traditions/
LOCATION:Archives municipales de Lyon\, 1 place des archives\, Lyon\, 69002
CATEGORIES:débat
END:VEVENT
END:VCALENDAR