BEGIN:VCALENDAR
VERSION:2.0
PRODID:-//Ville Morte - ECPv5.12.4//NONSGML v1.0//EN
CALSCALE:GREGORIAN
METHOD:PUBLISH
X-WR-CALNAME:Ville Morte
X-ORIGINAL-URL:https://villemorte.fr
X-WR-CALDESC:évènements pour Ville Morte
BEGIN:VTIMEZONE
TZID:Europe/Paris
BEGIN:DAYLIGHT
TZOFFSETFROM:+0100
TZOFFSETTO:+0200
TZNAME:CEST
DTSTART:20170326T010000
END:DAYLIGHT
BEGIN:STANDARD
TZOFFSETFROM:+0200
TZOFFSETTO:+0100
TZNAME:CET
DTSTART:20171029T010000
END:STANDARD
END:VTIMEZONE
BEGIN:VEVENT
DTSTART;TZID=Europe/Paris:20171212T203000
DTEND;TZID=Europe/Paris:20171212T203000
DTSTAMP:20260420T114319
CREATED:20171105T000255Z
LAST-MODIFIED:20171127T102321Z
UID:4731-1513110600-1513110600@villemorte.fr
SUMMARY:Red Gloves + Contractions
DESCRIPTION:@ Le Farmer \nCONTRACTIONS\nIndie garage\nLyon / Besançon\navec des gens de Baton Rouge\, Red Gloves\, Whoresnation\, Irradiates \n\nRED GLOVES\nDeluxe 90’s indie\nBesançon\navec 1/ Irradiates et 1/2 Jack & The Bearded Fisherman\n  \n\n\n 
URL:https://villemorte.fr/agenda/red-gloves-contractions/
LOCATION:Le Farmer\, 14 montée des Carmélites\, Lyon\, France
CATEGORIES:musique live
END:VEVENT
END:VCALENDAR