BEGIN:VCALENDAR
VERSION:2.0
PRODID:-//Ville Morte - ECPv5.12.4//NONSGML v1.0//EN
CALSCALE:GREGORIAN
METHOD:PUBLISH
X-WR-CALNAME:Ville Morte
X-ORIGINAL-URL:https://villemorte.fr
X-WR-CALDESC:évènements pour Ville Morte
BEGIN:VTIMEZONE
TZID:Europe/Paris
BEGIN:DAYLIGHT
TZOFFSETFROM:+0100
TZOFFSETTO:+0200
TZNAME:CEST
DTSTART:20190331T010000
END:DAYLIGHT
BEGIN:STANDARD
TZOFFSETFROM:+0200
TZOFFSETTO:+0100
TZNAME:CET
DTSTART:20191027T010000
END:STANDARD
END:VTIMEZONE
BEGIN:VEVENT
DTSTART;TZID=Europe/Paris:20190912T200000
DTEND;TZID=Europe/Paris:20190912T200000
DTSTAMP:20260425T125009
CREATED:20190901T204010Z
LAST-MODIFIED:20190901T204010Z
UID:10447-1568318400-1568318400@villemorte.fr
SUMMARY:Rencontre avec Alastair Hemmens\, auteur de Ne travaillez jamais
DESCRIPTION:Le jeudi 12 septembre\, nous accueillerons AUX CLAMEURS (bar très proche de la librairie situé 23 rue d’Aguesseau\, arrêt Métro D\, Guillotière)\, Alastair Hemmens\, auteur de Ne travaillez jamais. Il réalise\, dans cet ouvrage\, une « critique du travail en France de Charles Fourier à Guy Debord ». En utilisant plusieurs penseurs français (Fourier\, Lafargue\, Breton\, Debord)\, et en se livrant à une analyse critique de leurs textes\, il offre une perspective historique\, sociologique et philosophique sur ce qu’est le travail\, ou plutôt ce qui ne devrait pas être.
URL:https://villemorte.fr/agenda/rencontre-avec-alastair-hemmens-auteur-de-ne-travaillez-jamais/
LOCATION:Les Clameurs\, 23 rue d'Aguesseau\, LYON\, 69007\, France
CATEGORIES:rencontre
END:VEVENT
END:VCALENDAR