BEGIN:VCALENDAR
VERSION:2.0
PRODID:-//Ville Morte - ECPv5.12.4//NONSGML v1.0//EN
CALSCALE:GREGORIAN
METHOD:PUBLISH
X-WR-CALNAME:Ville Morte
X-ORIGINAL-URL:https://villemorte.fr
X-WR-CALDESC:évènements pour Ville Morte
BEGIN:VTIMEZONE
TZID:Europe/Paris
BEGIN:DAYLIGHT
TZOFFSETFROM:+0100
TZOFFSETTO:+0200
TZNAME:CEST
DTSTART:20200329T010000
END:DAYLIGHT
BEGIN:STANDARD
TZOFFSETFROM:+0200
TZOFFSETTO:+0100
TZNAME:CET
DTSTART:20201025T010000
END:STANDARD
END:VTIMEZONE
BEGIN:VEVENT
DTSTART;VALUE=DATE:20200201
DTEND;VALUE=DATE:20200203
DTSTAMP:20260425T011717
CREATED:20200112T092024Z
LAST-MODIFIED:20200122T122729Z
UID:11794-1580515200-1580687999@villemorte.fr
SUMMARY:M O U L T – OPÉRATIONS POÉTIQUES\, POLITIQUES ET LUXURIEUSES
DESCRIPTION:M O U L T – OPÉRATIONS POÉTIQUES\, POLITIQUES ET LUXURIEUSES\n\n\nFanzines\, lectures\, performances\, discussions\, projections\, ateliers\, imprimés\, radios\n\n\n\n\n\nSamedi 01 – dimanche 02 février 2020\n\n\nau Théâtre de l’Elysée\n\n\n14 rue Basse Combalot\, Lyon 7e (Métro D/Tram 1 arrêt Guillotière)\n\n\n\n\n\nEntrée prix libre (conseillé ± 5 €)\n\n\nBar et cantine sur place\n\n\nwww.facebook.com/moultpoesie\n\n\nmoult.fricotage@protonmail.com\n\n\n\n\n\nAvec\n\n\nCristal qui Songe / Marc Perrin / RADIO ZIZIGAGA / Noémi Lefebvre / Nathalie Quintane / Radio Canut / Kenny Ozier-Lafontaine / Johnny Winston / Élise Bonnard / Marguerin Le Louvier / Elodie Petit / RER Q / Manufacture Errata / MUFF / Nico Poisson / Le Double Monocle à Ressort / Les Timides / Fabienne Swialty / Carole Bijou / Antoine Boute / N’A QU’1 ŒIL / Éric Pesty Éditeur / 8 CLOS / Silo / Anne Kawala / Violences / Stephen Loye\n\n\n\n\n\nIl paraît que des choses se déclarent et qu’on n’a pas les mots\, alors c’est parti.\n\n\nCertain·es d’entre nous ont édité des poèmes\, des bouts de phrases\, d’autres n’ont pas commencé\, s’y jettent. Pas encore\, toujours et déjà : on continue.\n\n\nNous souhaitons lors d’un week-end réunir ces paroles qui fricotent\, parfois dans les marges d’un fanzine\, d’une auto-édition\, d’un bout de papier\, parfois susurrées sous le manteau ou dans nos livres préférés. Il y en a moult : nous voulons les faire dialoguer. Nous cherchons quelque part : nous explorons des sentiments\, des rencontres\, des objets vivants.\n\n\nNous voulons interroger la matière du langage et de la diffusion\, rechercher des mots et des dispositifs qui disent : les métamorphoses\, les luttes\, ce qui nous préoccupe\, nous fait rêver\, et plus encore.\n\n\n\n\n\n// TOUT LE WEEK-END\n\n\n\n\n\n★ Exposition de fanzines\n\n\nEspace de lecture et consultation de la collection reçue suite à notre appel à fanzines et autres micro-éditions.\n\n\nTables de vente des fanzines et sélection de livres des invité·e·s\, en collaboration avec la librairie Terre des Livres.\n\n\n\n\n\n★ Radio Zizigaga\n\n\nStudio de poche et station mobile de narrowcasting (micro-FM). Installation mi-lieux. Caisse de résonance pour concerts\, rues\, soirées\, festivals\, piquets de grèves… Duplex-concerts\, micros libres\, chroniques intempestives\, animation discomobile\, jeux radiophoniques\, distro\, infokiosque\, ateliers de fabrication d’émetteurs.\n\n\nAntenne temporaire\, brouillage brouillon\, radio translocale.\n\n\nhttps://www.facebook.com/RADIOZIZIGAGA/\n\n\n\n\n\n★ Atelier Post Poétique avec le Double Monocle à Ressort\n\n\nPoésie collaborative\n\n\nDe quoi coller tranquille\n\n\nTa grammaire\n\n\nAlternative\n\n\nColore les murs\n\n\nPost-it tes mots\n\n\nInterprète-les\n\n\nQu’ils deviennent musicaux\n\n\n\n\n\nL’association Double Monocle à Ressort propose un dispositif de création interactive\, textuelle et sonore. Atelier en libre-accès\, samedi (15h – 19h) et dimanche (14h – 18h).\n\n\nhttp://ledoublemonocle.blogspot.com/\n\n\n\n\n\n★ Fanzine Furious\n\n\nAtelier de fabrication de fanzines\, par Noir de Carbone et Manufacture Errata.\n\n\n\n\n\nVenez avec l’envie de faire votre propre micro-édition\, tout à la main et à la photocopieuse ! Venez aussi avec vos textes et images pour enfin les assembler ! Si vous êtes du style à cueillir les fleurs du jour et que vous venez les mains dans les poches ne vous inquiétez pas\, nos outils de créations sauront guider vos doigts !\n\n\n\n\n\nAtelier en accès libre\, samedi et dimanche de 14h à 19h.\n\n\nhttp://manufacture-errata.weebly.com/\n\n\n\n\n\n★ « Ce jour où j’ai décidé de ne plus me taire\, la télé était allumée »\n\n\nUne sélection de vidéos\, d’images d’archives\, pour faire résonner les cœurs\, à coups de bombes poétiques.\n\n\nDe Michèle Lalonde à Pat Parker\, de la nuit de la poésie à Montréal au concert punk\, des visages des voix des mots qui se soulèvent pour porter une cause\, tracer une existence\, faire acte ou dire simplement « on est là ».\n\n\n\n\n\nSélection et montage par Sophie Lecluse (Moult)\, avec l’aide de Lisa Cocrelle\n\n\n\n\n\n// SAMEDI 1er FÉVRIER (13h30 – minuit)\n\n\n\n\n\n★ 11h-13h : Atelier d’écriture Cristal qui songe\, avec Marguerin Le Louvier et Elise Bonnard.\n\n\nJe la regarde. Elle ne dit rien. Pas un bip\, pas une lumière qui clignote.\n\n\nElle a tout avalé et elle fait comme si de rien n’était. Elle a cloné\, irradié le support. Je ne sais pas ce qui se passe à l’intérieur. Comment ça bouge dedans ? Est-ce que ça bouge ? Est-ce que c’est vivant ? Elle a l’air morte. J’ai tout cassé. Je l’ai vidé. Merde. Plus de papier. Y’a plus de papier\, t’as racheté du papier ? Dans quel sens l’insérer ? Le format\, quel format ? Plutôt recto ou verso ?\n\n\n\n\n\nCristal qui songe a de sérieux problèmes de reproduction. Rendez-vous à la photocopieuse\, samedi de 11h à 13h\, pour un atelier d’écriture à tirage illimité.\n\n\nSur inscription préalable (12 places) : cristalquisonge@protonmail.com.\n\n\n\n\n\n★ 11h-13h : Atelier fabrication de micro-émetteur FM : ANTI-BROADCAST\n\n\nL’Atelier Tazarine\, succursale industrielle de la radio ZIZIGAGA\, propose une session bricolage électronique accessible à tou·te·s\, autour de la fabrication de mini-émetteurs FM de poche\, inspirés par le travail de Tetsuo Kogawa. Au sortir de l’atelier\, chacun·e pourra devenir un·e « narrowcaster » tout-terrain et brouiller l’onde à sa guise. « Et les ondes\, elles sont à qui ?! »\n\n\n\n\n\nAtelier documenté et accompagné de digressions autour de l’histoire des ondes et de la libération de la parole\, ainsi que des possibilités d’emploi des radios pirates pour aujourd’hui et demain.\n\n\nPour 6 à 8 personnes. Matériel fourni.\n\n\nInscription par mail : radiozizigaga@riseup.net\n\n\nhttps://www.facebook.com/RADIOZIZIGAGA/\n\n\n\n\n\n★ 13h30 : Ouverture\n\n\n\n\n\n★ 14h : Restitution de l’atelier d’écriture Cristal qui songe et lectures de membres du collectif.\n\n\n\n\n\n★ 15h-17h : Plateau Radio Canut en direct du théâtre de l’Élysée\n\n\nJ’ai passé du Johnny sur Radio Canut\, et vous vous faites quoi pour la lutte ?\n\n\nJohnny Winston\n\n\n\n\n\nÉmission spéciale en direct produite et animée par Carole Bijou et Adrien Papin. Technique assurée par Matt. Entretiens avec les invité·e·s\, lectures\, musiques.\n\n\nÀ écouter : 102.2 fm / www.radiocanut.org\n\n\n\n\n\n★ 15h30 : Marc Perrin\n\n\nCar les Fées Spinoza sont les enfants mâles et femelles et tutti\, camarades en apprentissages à l’école des amours réelles\, virgule\n\n\n(…)\n\n\nComment\n\n\nDepuis les réalités sensibles\, sentimentales\, sexuelles\, affectives\n\n\nComment briser la roue close des répétitions\n\n\nNourricières\n\n\nProtectrices\n\n\nDominâtres\n\n\nLe patriarcat\n\n\nN’est pas mort\n\n\nLes Fées Spinoza\, Chantier en cours\, 2020\n\n\n\n\n\nLecture et discussions.\n\n\nhttps://sansattendreblog.wordpress.com/\n\n\n\n\n\n★ 17h : Discussion collective « Poétique politique »\n\n\nAccompagnée de Noémi Lefebvre\, Élodie Petit et Nathalie Quintane.\n\n\n\n\n\nLes oiseaux avaient recommencé leur musique à la con mais je me foutais bien qu’ils fussent musiciens ou qu’ils représentassent un renouveau charmant ou qu’ils dussent jouer comme chaque année les figurants volants de la beauté du ciel ou des arts libéraux ou ceci ou cela\, non\, ce qui me semblait favorable à une poésie\, c’est qu’ils affirmaient leurs points de vue d’oiseaux en partageant des idées indépendantes et inutilisables. Et les mouvements sociaux s’annonçaient plutôt bien.\n\n\nNoémi Lefebvre\, Poétique de l’emploi\, 2018\n\n\n\n\n\nVoyons ainsi comment réamorcer la littérature et rendre poétiquement indissociables excitation sensible et excitation politique.\n\n\nNathalie Quintane\, Ultra-Proust\, 2017\n\n\n\n\n\nQue chacune rie à outrance et que les trous du cul soient dilatés.\n\n\nElodie Petit\, Fiévreuse plébéienne\, 2019\n\n\n\n\n\nLangue qui fouille\, mute\, détourne : excitation littéraire\, créatrice\, politique\, sexuelle — faire de l’action et prendre part avec les mots et les mains\, dans le livre et au-delà.\n\n\nDiscussion appuyée par les invitées et des lectures de textes.\n\n\nhttp://www.editions-verticales.com/auteurs_fiche.php?rubrique=4&id=153\n\n\nhttps://www.elodiepetit.fr/\n\n\nhttp://www.pol-editeur.com/index.php?spec=auteur&numauteur=212\n\n\n\n\n\n★ 19h30 : Kenny Ozier-Lafontaine\n\n\nsi j’étais le diable j’allumerais des radios\n\n\nau beau milieu de la nuit\n\n\nquand tu serais déjà endormi\n\n\nvolume max\n\n\net je t’enverrais des signaux brouillés\n\n\ndes : frrrssshhhh …. frrrssshhhh ….. frrrssshhhh ….. croustillants\n\n\nde la grosse friture satanique\n\n\nle genre tu vois\n\n\nqui sépare sur les ondes\n\n\nles voix d’homme du chant des mouches\n\n\ndes prières quoi …\n\n\ntu comprends ?\n\n\nSi j’étais le diable\, 2018\n\n\n\n\n\nLecture-performance.\n\n\nhttps://www.maelstromreevolution.org/auteurs/item/183-kenny-ozier-lafontaine\n\n\n\n\n\n★ 20h : Repas\n\n\n\n\n\n★ 21h : Élise Bonnard\, Marguerin Le Louvier et Johnny Winston\n\n\nOn retient toujours le plus puissant en soi.\n\n\nOn retient le feu.\n\n\nOn ferme.\n\n\nOn n’ouvre jamais grand.\n\n\nÉlise Bonnard\, 2019\n\n\n\n\n\nUn homme qui tête un autre homme\, tu sais qu’on fait ça ? Tu savais ? Qu’on se donne tout comme ça\, qu’on se montre notre amour à s’allaiter pour de faux\, à se donner à boire nos seins poilus d’animaux.\n\n\nMarguerin Le Louvier\, My Love\, Poésie pour se dépenser physiquement\, 2018\n\n\n\n\n\nj’ai deux sujets de conversation : la fin du monde et mon ex.\n\n\nJohnny Winston\, 2019\n\n\n\n\n\nPerformance poétique accompagnée par la musique brûlante de CandICE\n\n\nhttps://elisebonnard.com/\n\n\nhttp://marguerin.net/\n\n\nhttps://soundcloud.com/user-316981907\n\n\n\n\n\n★ 22h : RER Q\n\n\nWendy Delorme\, Claire Finch\, Élodie Petit\, Etaïnn Zwer\n\n\nRER Q est un réseau d’autriX allié.e.s autour de textes / manifestes queer / crus / cul\,\n\n\nRER Q écrit lit performe ce qui n’est que trop rarement visible\,\n\n\nRER Q explose le genre triste et la syntaxe molle\, la police des corps identifiés identifiables et la littérature officielle\,\n\n\nRER Q serpente entre les mots d’individu.e.s qui racontent leurs perturbations non linéaires dans le genre et la sexualité\n\n\nRER Q est substance désir poésie suspecte flemme tantrique interstices nuques moites expérimentations sales paysages gouines images clandestines tunnels d’amour fantasmes profonds comme des arbres\,\n\n\nRER Q est le voyage néon sans fard sans fin vers ta sexe ta corps ta bouche d’infini.e\,\n\n\nRER Q est sauvage\, multiple et uni.e\n\n\n\n\n\nTextes. Performances. Collectif\, rage et tendresse.\n\n\nhttps://www.facebook.com/rerrrrrrq/\n\n\n\n\n\n★ 23h : Carte blanche cinéma du MUFF : Corps\, paysages & Mythologies composites\n\n\nMarseille Undergound Film & Music Festival\n\n\n\n\n\nLe film expérimental peut s’observer comme étant au cinéma ce que la poésie est à la littérature : essais de grammaires inédites et funambulaires\, tentatives d’écritures alternatives\, déambulations de formes narratives plurielles et éclatées en non-narrations\, évocations oniriques et autres visions surréalistes… (…)\n\n\nDanses macabres\, amours non-conformistes\, chairs en mutation et évocations de terres imaginaires ou lointaines\, il y aura là des films qui parlent – avec des mots\, des sons\, des images – et d’autres non\, il y aura des corps qui expérimentent\, des paysages et des langages hybrides\, des vies romantiques\, des vies violentes\, des mythologies composites\, en dé/formation\, des voix et de la musique pour raconter les/nos histoires différemment.\n\n\n\n\n\nProjection de courts-métrages expérimentaux\, avec une performance en direct de Marguerin Le Louvier et Nico Poisson.\n\n\nhttps://www.festivalmuff.com/\n\n\n\n\n\n// DIMANCHE 2 FÉVRIER (11h – 23h)\n\n\n\n\n\n★ 11h : Ouverture\n\n\n\n\n\n★ 12h : Repas\n\n\n\n\n\n★ 13h : Les Timides\n\n\n.3.\n\n\nla timidité n’est pas une pathologie\n\n\nelle n’est pas à guérir elle est précieuse\n\n\nprécieuse car elle est un affaiblissement de la norme\n\n\n.4.\n\n\nça parle trop\n\n\nles timides n’ont rien à rajouter\n\n\nle silence est notre réponse vitale\n\n\nManifeste Timide Rouge\n\n\n\n\n\nLectures collectives.\n\n\n\n\n\n★ 14h : Antoine Boute\n\n\nIl explique à ses stagiaires qu’il faut qu’ils se connectent la respiration à celle des joggeurs du tunnel\, comme d’ailleurs aussi à l’essence brûlée des bagnoles et à l’expansion de l’univers. Il leur dit : VENEZ\, SAUTEZ DE VOS BAGNOLES DANS LES RONCES BORDANT L’AUTOROUTE\, CONSTITUEZ-VOUS UN CORPS SEXY-PUNK-TRASH-BIO-HARDCORE\, ainsi qu’un mental du même acabit\, oui\, une dégaine mentale du même acabit et\, dans la dégaine mentale du même acabit\, tâchez de bien vous concentrer sur le vide cosmique noir oui\, dark sombre soupe originel de l’expansion de l’univers\n\n\nJoggeurs Senghor\, retranscription\, 2017\n\n\n\n\n\nLecture d’une opération bio-hardcore.\n\n\nhttp://antoineboute.blogspot.com/\n\n\n\n\n\n★ 14h-17h : Atelier d’écriture accompagné de Fabienne Swiatly et Carole Bijou\n\n\nTout est prévu à l’avance. Tout est déjà tapé sur le clavier. Tu lis : creuser les voies numériques. Explorer. Rencontrer les langages internet. Copier. Coller. Sous tes doigts\, un ordinateur des années 90 2000 2020. Un X4598C+. Modèle incomparable. Tu le sens frémir. De lui\, de toi\, de vous. Décalquer. Découper. Reformer. Les mots sur nos écrans.\n\n\n\n\n\nFaire littérature avec la littérature numérique. Une invitation à écrire à partir de l’association de deux mots et de leurs entrées sur un moteur de recherche.\n\n\nS’approprier ce qui est écrit pour le transformer en un autre écrit.\n\n\nL’atelier nécessitera d’être connecté à son ordinateur\, son téléphone ou sa tablette.\n\n\nVous utiliserez votre propre matériel et choisirez d’écrire sur papier ou clavier.\n\n\nSur inscription préalable (12 places) : moult.fricotage@protonmail.com.\n\n\nhttps://www.latracebleue.net/\n\n\nhttps://www.carolebijou.wordpress.com\n\n\n\n\n\n\n\n\n★ 15h : Discussion ouverte « Faire poésie »\n\n\nAvec Grégoire Sourice (8 clos)\, Éric Pesty Éditeur\, Luna Beretta (Violences)\, Carole Lataste et Alexandre Giraud (N’A Qu’1 Œil)\, Théo Revelen Bernard (Silo)\, Christophe Siébert.\n\n\n\n\n\nLa poésie est un chien et son chat est la prose.\n\n\nAdrien Bardi Bienenstock\, Le jeu du chat & du chien\, 8 clos\, 2019\n\n\n\n\n\nUn livre\, pour un auteur est un morceau de vie. Et il ne sera plus le même après. C’est un événement important.\n\n\nÉric Pesty\, « La tête et les mains »\, Le matricule des anges\, n°161\, 2015\n\n\n\n\n\nLe fanzine Violences et les auteurs qui le composent font partie de ces choses qui maintiennent ma foi en une littérature qui n’est pas celle qu’on vous montre chez Ruquier ; une littérature vivante\, méchante\, qui s’avance vers le lecteur babines retroussées et l’œil qui brille.\n\n\nChristophe Siébert\, 2018\n\n\n\n\n\nPublier / (se) Manifester / Diffuser / Faire Suivre\n\n\nSite internet de N’A Qu’1 Œil\, 2020\n\n\n\n\n\nFAIRE UN OBJET QUI SOIT LA FIGURE D’UN TEMPS / LE RECUEIL FRAGILE D’UNE ÉPOQUE AVEC DES TROUS\n\n\nVahan Soghomonian\, Poésie Souterraine\, avec Matthieu Reynaud\, Éditions Silo\, 2017\n\n\n\n\n\nDiscussion ouverte autour d’expérimentations et de pratiques multiples\, de l’(auto)-édition à l’art performatif\, de la fabrique à son dévoilement.\n\n\nhttps://www.facebook.com/collection8clos/\n\n\nhttps://www.ericpestyediteur.com/\n\n\nhttps://berettaviolences.wordpress.com/\n\n\nhttps://christophesiebert.wordpress.com/\n\n\nhttps://www.naqu1oeil.com/\n\n\nhttps://s-i-l-o.fr/\n\n\n\n\n\n★ 17h : Anne Kawala\n\n\net ici\n\n\nIci il y a le promontoire\n\n\nLe plongeoir la surrection arc-en-ciel sur laquelle vient ici s’asseoir tout au sommet Cristal Black\n\n\nIci vient s’asseoir Cristal Black pour ici\n\n\nAu sommet de la surrection arc-en-ciel consulter ses emails\n\n\nIci est assise Cristal Black\n\n\nIci consulte ses emails au sommet de la surrection arc-en-ciel\n\n\nEt ici est ouvert un courrier électronique\n\n\nUn courrier électronique est ouvert par Cristal Black\n\n\nCristal Black reçoit ici un courrier électronique de la notaire de sa grand-mère\n\n\nLa surrection arc-en-ciel\, 2019\n\n\n\n\n\nUn épisode de Cristal Black : performance suivie d’une discussion.\n\n\nhttp://anne.kawala.free.fr/\n\n\n\n\n\n★ 18h : Violences\n\n\nLuna Beretta\, Christophe Siébert\, Henri Clerc\, Astrid Toulon\, François Fournet\, Tina Hype\, Yoann Sarrat\, Popier Popol\, et S.H.I.T. à la musique.\n\n\n\n\n\nTu te demandes si\, quand le sang aura séché\, on remarquera les impacts des balles et les traces d’ongles des fusillés ; peut-être ne pensera-t-on qu’à un problème d’érosion.\n\n\nLuna Beretta\, Cara el Sol\, dans Violences #8\, 2018\n\n\n\n\n\nEnlever la honte\,\n\n\ncomme un vêtement.\n\n\nEt la disposer sur une chaise.\n\n\nAstrid Toulon\, Pour que plus rien ne reste\, dans Violences #8\, 2018\n\n\n\n\n\nLectures collectives.\n\n\nhttps://berettaviolences.wordpress.com/\n\n\n\n\n\n★ 19h : Repas\n\n\n\n\n\n★ 20h : Je suis sur terre\, film de Stephen Loye\n\n\nFrance / 2019 / Couleur / 84’ / Pages & Images Productions (Youssef Charifi)\n\n\nSingulière vie de poète que celle de Charles Pennequin : sa poésie\, qui fait vers de toutes choses\, il la lit partout\, pour tous\, des théâtres de l’élite culturelle aux cantines des travailleurs. Jeune cinéaste admirateur de son œuvre et de sa généreuse démarche\, Stephen Loye quitte sa province et l’accompagne pour une truculente virée sur les routes de France. Comme l’art et la vie de Pennequin traversent les murs qui séparent les classes sociales\, Je suis sur terre rêve et arpente un terrain de jeu qui abolirait toute opposition entre la culture populaire et l’exigence d’une expérimentation contemporaine de la poésie.\n\n\nCyril Neyrat\n\n\n\n\n\nProjection et discussion avec le réalisateur.\n\n\nhttps://fidmarseille.org/film/je-suis-sur-terre/
URL:https://villemorte.fr/agenda/rencontres-moult/
LOCATION:Théâtre de l’Elysée\, 14 rue Basse Combalot\, LYON\, 69007
CATEGORIES:atelier,bouffe,discussion,édition,exposition,fanzine,festival,lecture,poésie,rencontre
ATTACH;FMTTYPE=image/jpeg:https://villemorte.fr/wp-content/uploads/2020/01/Affiche01-scaled.jpg
END:VEVENT
END:VCALENDAR