BEGIN:VCALENDAR
VERSION:2.0
PRODID:-//Ville Morte - ECPv5.12.4//NONSGML v1.0//EN
CALSCALE:GREGORIAN
METHOD:PUBLISH
X-WR-CALNAME:Ville Morte
X-ORIGINAL-URL:https://villemorte.fr
X-WR-CALDESC:évènements pour Ville Morte
BEGIN:VTIMEZONE
TZID:Europe/Paris
BEGIN:DAYLIGHT
TZOFFSETFROM:+0100
TZOFFSETTO:+0200
TZNAME:CEST
DTSTART:20210328T010000
END:DAYLIGHT
BEGIN:STANDARD
TZOFFSETFROM:+0200
TZOFFSETTO:+0100
TZNAME:CET
DTSTART:20211031T010000
END:STANDARD
END:VTIMEZONE
BEGIN:VEVENT
DTSTART;TZID=Europe/Paris:20211121T140000
DTEND;TZID=Europe/Paris:20211121T180000
DTSTAMP:20260425T162002
CREATED:20211117T211547Z
LAST-MODIFIED:20211117T211859Z
UID:14165-1637503200-1637517600@villemorte.fr
SUMMARY:Reunion/formation Cuisine et Maraudes
DESCRIPTION:On entend souvent des gens nous dire qu’ils souhaitent depuis longtemps participer à une maraude sans oser franchir le pas ou ne savent pas comment s’y prendre. Si c’est ton cas\, cette rencontre est faite pour toi. Viens pousser la porte de l’Atelier\, on t’explique tout !\nAu programme : présentation des orgas partenaires sur ce projet\, petit module de formation pour apprendre comment on gère les différentes étapes de la récup à la distribution et enfin discussions/concertation sur nos planning\, l’organisation pratique et les pistes d’amelioration.
URL:https://villemorte.fr/agenda/reunion-formation-cuisine-et-maraudes/
LOCATION:L’Atelier des Canulars\, 91 rue Montesquieu\, LYON\, 69007
CATEGORIES:atelier
END:VEVENT
END:VCALENDAR