BEGIN:VCALENDAR
VERSION:2.0
PRODID:-//Ville Morte - ECPv5.12.4//NONSGML v1.0//EN
CALSCALE:GREGORIAN
METHOD:PUBLISH
X-WR-CALNAME:Ville Morte
X-ORIGINAL-URL:https://villemorte.fr
X-WR-CALDESC:évènements pour Ville Morte
BEGIN:VTIMEZONE
TZID:Europe/Paris
BEGIN:DAYLIGHT
TZOFFSETFROM:+0100
TZOFFSETTO:+0200
TZNAME:CEST
DTSTART:20180325T010000
END:DAYLIGHT
BEGIN:STANDARD
TZOFFSETFROM:+0200
TZOFFSETTO:+0100
TZNAME:CET
DTSTART:20181028T010000
END:STANDARD
END:VTIMEZONE
BEGIN:VEVENT
DTSTART;TZID=Europe/Paris:20180504T203000
DTEND;TZID=Europe/Paris:20180504T203000
DTSTAMP:20260422T130016
CREATED:20180404T132224Z
LAST-MODIFIED:20180404T132224Z
UID:6036-1525465800-1525465800@villemorte.fr
SUMMARY:Rock them all // Orkhis • Blanker Republic • Gimmie
DESCRIPTION:Orkhis // Un groupe de rock né sous l’impulsion de trois amis de lycée. Ce quatuor délivre une musique avec des harmonies puissantes\, une énergie volcanique\, un chant limpide et une rythmique précise et recherchée. Ce groupe aux influences variées mêle la sensibilité de la pop avec l’énergie brute du rock pour créer une musique singulière.\nhttps://soundcloud.com/orkhis \nBlanker Republic // Vêtus de noir\, armés de guitares\, et imprégnés d’une aura rocknrollesque\, c’est sur scène que ces cinq gars là se sentent chez eux. Le show puissant et fédérateur qu’ils vous servent sur un plateau d’argent est mené par un chanteur\, qui se transforme en véritable frontman avec la plus grande des aisances\, soutenu par des musiciens qui lui procurent une énergie et un confort indéniable. https://www.blankerrepublic.com/\nhttps://www.youtube.com/watch?v=WyZyPrYIc5g \nGIMMIE // Gimmie\, c’est 1 fille à moitié british\, 3 garçons\, un gang. Un univers tout en contraste : brute et sensuel\, sombre et radieux. Imaginez deux secondes ce que donneraient les enfants prodiges de Gwen Stefani et Hulk. Influencés par Bring Me The Horizon\, No Doubt ou encore Twenty One Pilots\, c’est une fusion de 4 êtres humains un peu bizarres\, un peu à part\, qui a donné naissance à un véritable gang. https://www.gimmietheband.com/\nhttps://soundcloud.com/gimmietheband
URL:https://villemorte.fr/agenda/rock-them-all-orkhis-%e2%80%a2-blanker-republic-%e2%80%a2-gimmie/
LOCATION:Toï Toï le Zinc\, 17-19 Rue Marcel Dutartre\, Villeurbanne\, 69100 \, France
CATEGORIES:musique live
ATTACH;FMTTYPE=image/jpeg:https://villemorte.fr/wp-content/uploads/2018/04/website_toi-toi.jpg
END:VEVENT
END:VCALENDAR