BEGIN:VCALENDAR
VERSION:2.0
PRODID:-//Ville Morte - ECPv5.12.4//NONSGML v1.0//EN
CALSCALE:GREGORIAN
METHOD:PUBLISH
X-WR-CALNAME:Ville Morte
X-ORIGINAL-URL:https://villemorte.fr
X-WR-CALDESC:évènements pour Ville Morte
BEGIN:VTIMEZONE
TZID:Europe/Paris
BEGIN:DAYLIGHT
TZOFFSETFROM:+0100
TZOFFSETTO:+0200
TZNAME:CEST
DTSTART:20220327T010000
END:DAYLIGHT
BEGIN:STANDARD
TZOFFSETFROM:+0200
TZOFFSETTO:+0100
TZNAME:CET
DTSTART:20221030T010000
END:STANDARD
END:VTIMEZONE
BEGIN:VEVENT
DTSTART;TZID=Europe/Paris:20220423T203000
DTEND;TZID=Europe/Paris:20220423T203000
DTSTAMP:20260425T183645
CREATED:20220213T112744Z
LAST-MODIFIED:20220213T112744Z
UID:14734-1650745800-1650745800@villemorte.fr
SUMMARY:Rodrigo Amarante
DESCRIPTION:SOIRÉE FOLK & POP\n→ 13 / 15 / 17 €\n→ Viens avec ton verre ! \n°°°°°°°°°°°°°°°°°°°°°°°°°°°°°°°°°°\nARTISTES \n→ Rodrigo Amarante / Brésil\nA l’heure où la sono mondiale permet de brasser les influences issues des confins de notre planète pour notre plus grand bonheur\, Rodrigo Amarante nous fait ralentir le rythme et revenir aux fondamentaux. Né au Brésil et valises posées à Los Angeles\, il est passé par des formations diverses qui nous ont donné l’occasion de découvrir sa voix exceptionnelle. Découvert par le grand public grâce à la bande son de la série Narcos\, Rodrigo Amarante nous fait le plaisir de repasser chez nous pour partager ses comptines pop et folk aux accents brésiliens\, d’une richesse et d’une majesté bien rares. \n \n \n→ Première partie à venir… \nPour venir en transports en commun :\nArrêt Feyzin – La Bégude\n→ Bus 60 (depuis la Gare de Perrache)\n→ Bus 39 (depuis la Gare de Vénissieux / Métro D)\nPour le retour en transports en commun :\nArrêt Feyzin – La Bégude direction Gare de Vénissieux / Métro D\n→ 23h08 : Bus 39\n→ 23h30 : dernière navette
URL:https://villemorte.fr/agenda/rodrigo-amarante/
LOCATION:L’Épicerie Moderne\, Place René Lescot\, Feyzin\, 69320\, France
CATEGORIES:musique live
END:VEVENT
END:VCALENDAR