BEGIN:VCALENDAR
VERSION:2.0
PRODID:-//Ville Morte - ECPv5.12.4//NONSGML v1.0//EN
CALSCALE:GREGORIAN
METHOD:PUBLISH
X-WR-CALNAME:Ville Morte
X-ORIGINAL-URL:https://villemorte.fr
X-WR-CALDESC:évènements pour Ville Morte
BEGIN:VTIMEZONE
TZID:Europe/Paris
BEGIN:DAYLIGHT
TZOFFSETFROM:+0100
TZOFFSETTO:+0200
TZNAME:CEST
DTSTART:20230326T010000
END:DAYLIGHT
BEGIN:STANDARD
TZOFFSETFROM:+0200
TZOFFSETTO:+0100
TZNAME:CET
DTSTART:20231029T010000
END:STANDARD
END:VTIMEZONE
BEGIN:VEVENT
DTSTART;TZID=Europe/Paris:20230407T193000
DTEND;TZID=Europe/Paris:20230407T193000
DTSTAMP:20260422T144119
CREATED:20230311T093303Z
LAST-MODIFIED:20230311T093303Z
UID:18705-1680895800-1680895800@villemorte.fr
SUMMARY:Rosenkreuz + Guest
DESCRIPTION:ROSENKREUZ (Metal – Lyon)\n\nRosenkreuz est un groupe de Metal Industriel Gothique\, originaire de Lyon. Fondé en 2015\, le collectif se compose de six membres. Rosenkreuz est signé chez Adipocere Records (Benighted\, Bethlehem\, Moonspell …). L’esthétique postmoderne de Rosenkreuz nous projette dans un monde apocalyptique ravagé par la guerre\, où les machines règnent en maître absolu. Réduits en esclavage\, les survivants n’ont plus que l’art pour s’évader de la réalité. A l’intérieur de cet univers dystopique\, la musique de Rosenkreuz \, mêlant guitares metal\, rythmes martiaux et samples futuristes\, apparaît comme l’ultime expérience permettant de réenchanter l’existence..
URL:https://villemorte.fr/agenda/rosenkreuz-guest/
LOCATION:Warmaudio\, 29 Rue Wilson\, Décines-Charpieu\, 69150\, France Métropolitaine
CATEGORIES:musique live
END:VEVENT
END:VCALENDAR