BEGIN:VCALENDAR
VERSION:2.0
PRODID:-//Ville Morte - ECPv5.12.4//NONSGML v1.0//EN
CALSCALE:GREGORIAN
METHOD:PUBLISH
X-WR-CALNAME:Ville Morte
X-ORIGINAL-URL:https://villemorte.fr
X-WR-CALDESC:évènements pour Ville Morte
BEGIN:VTIMEZONE
TZID:Europe/Paris
BEGIN:DAYLIGHT
TZOFFSETFROM:+0100
TZOFFSETTO:+0200
TZNAME:CEST
DTSTART:20220327T010000
END:DAYLIGHT
BEGIN:STANDARD
TZOFFSETFROM:+0200
TZOFFSETTO:+0100
TZNAME:CET
DTSTART:20221030T010000
END:STANDARD
END:VTIMEZONE
BEGIN:VEVENT
DTSTART;TZID=Europe/Paris:20221110T200000
DTEND;TZID=Europe/Paris:20221110T200000
DTSTAMP:20260424T224509
CREATED:20220814T192317Z
LAST-MODIFIED:20220814T192317Z
UID:16778-1668110400-1668110400@villemorte.fr
SUMMARY:Sam Shalabi / Nicolas Caloia
DESCRIPTION:Sonic présente\njeudi 10 novembre 2022\n20h00\n9 euros\n\nSam Shalabi / Nicolas Caloia (Montreal // Musique expérimentale)\nSam Shalabi – oud\nNicolas Caloia – double bass\nhttps://samshalabinicolascaloia.bandcamp.com/\nhttps://samshalabi1.bandcamp.com/\nhttps://www.nicolascaloia.net/\nSam Shalabi est un compositeur et improvisateur égypto-canadien qui vit à Montréal\, au Québec. Ayant débuté dans le punk rock à la fin des années 70\, son travail a évolué vers une fusion de musique arabe expérimentale qui incorpore l’arabe traditionnel\, le shaabi\, le bruit\, le classique\, le texte\, l’improvisation libre\, l’électronique et le jazz. Il a sorti 9 albums solo\, 6 albums avec Shalabi Effect (un quartet d’improvisation libre qui fait le lien entre la musique psychédélique occidentale et le maqam arabe)\, et 4 albums avec Land Of Kush (un orchestre expérimental de 30 membres\, pour lequel il compose). Il a participé à plus de 60 albums et a effectué des tournées en Europe\, en Amérique du Nord et en Afrique du Nord. Ses projets récents comprennent des albums avec Dwarfs Of East Agouza\, un trio basé au Caire\, avec Alan Bishop et Maurice Louca\, des albums avec Karkhana\, un groupe dont les membres viennent de tout le Moyen-Orient et des collaborations avec la chanteuse Nadah El Shazly\, Oren Ambarchi Angel Bat Dawid et un quartet avec Brahja Waldman\, Liam O Neil et Morgan Moore. Il a également composé la musique de plus de 20 films en Amérique du Nord\, en Europe et au Moyen-Orient.\n\nSince the early 1990s Nicolas Caloia has worked at creating a contemporary music generated by using accurately composed textures to channel collective improvisation. The goal is a music that erases the lines between improvised and composed\, pop and avant-garde\, good and bad. He hopes this music will satisfy the body\, the mind and\, above all\, the heart.\nHe has worked as a performer\, composer\, and organizer in Montreal and has toured in North America\, Europe\, and Asia. He has performed and recorded in a vast array of contexts with the most important members of Montreal’s creative music community as well as with internationally renowned musicians like Marshall Allen\, John Butcher\, Joe McPhee\, Steve Lacy\, Hassan Hakmoun\, Tristan Honsinger and Pandit Hariprasad Chaurasia. His concerts and recordings have been critically acclaimed both at home and abroad.
URL:https://villemorte.fr/agenda/sam-shalabi-nicolas-caloia/
LOCATION:Sonic\, 4 quai des Etroits\, Lyon\, 69005\, France
END:VEVENT
END:VCALENDAR