BEGIN:VCALENDAR
VERSION:2.0
PRODID:-//Ville Morte - ECPv5.12.4//NONSGML v1.0//EN
CALSCALE:GREGORIAN
METHOD:PUBLISH
X-WR-CALNAME:Ville Morte
X-ORIGINAL-URL:https://villemorte.fr
X-WR-CALDESC:évènements pour Ville Morte
BEGIN:VTIMEZONE
TZID:Europe/Paris
BEGIN:DAYLIGHT
TZOFFSETFROM:+0100
TZOFFSETTO:+0200
TZNAME:CEST
DTSTART:20240331T010000
END:DAYLIGHT
BEGIN:STANDARD
TZOFFSETFROM:+0200
TZOFFSETTO:+0100
TZNAME:CET
DTSTART:20241027T010000
END:STANDARD
END:VTIMEZONE
BEGIN:VEVENT
DTSTART;TZID=Europe/Paris:20240208T200000
DTEND;TZID=Europe/Paris:20240208T200000
DTSTAMP:20260419T152006
CREATED:20240117T172300Z
LAST-MODIFIED:20240117T172300Z
UID:22571-1707422400-1707422400@villemorte.fr
SUMMARY:Seb & The Rhaaa Disques
DESCRIPTION:SEB & THE RHAAA DISQUES (DJ Set)\n\nDe Alkaline Trio à Zouk Machine en passant par Grauzone ou le early Nino Ferrer\, la sélection de 45 tours de Seb and The Rhaaa Disques (mais qui peut bien se cacher dérriere ce pseudo mystérieux ?) ressemblent un peu à un morceau de Pierre & Bastien:\n« Moi je suis comme ça je suis éclectique.\nJ’ai toujours aimé la musique\nJ’kiffe Kaaris et Vamvakaris\nKiss\, Kool Keith\, Elvis\, Eddy Louiss\net ti frère de l’île Maurice\, sans oublier Cabrel\nFrancis.\nReste un peu\, je vais te mettre\nDe la musique grecque ».
URL:https://villemorte.fr/agenda/seb-the-rhaaa-disques/
LOCATION:Trokson\, 110 Montée de la grande côte\, Lyon\, 69001\, France
CATEGORIES:DJ Set
END:VEVENT
END:VCALENDAR