BEGIN:VCALENDAR
VERSION:2.0
PRODID:-//Ville Morte - ECPv5.12.4//NONSGML v1.0//EN
CALSCALE:GREGORIAN
METHOD:PUBLISH
X-WR-CALNAME:Ville Morte
X-ORIGINAL-URL:https://villemorte.fr
X-WR-CALDESC:évènements pour Ville Morte
BEGIN:VTIMEZONE
TZID:Europe/Paris
BEGIN:DAYLIGHT
TZOFFSETFROM:+0100
TZOFFSETTO:+0200
TZNAME:CEST
DTSTART:20240331T010000
END:DAYLIGHT
BEGIN:STANDARD
TZOFFSETFROM:+0200
TZOFFSETTO:+0100
TZNAME:CET
DTSTART:20241027T010000
END:STANDARD
END:VTIMEZONE
BEGIN:VEVENT
DTSTART;TZID=Europe/Paris:20240127T203000
DTEND;TZID=Europe/Paris:20240127T203000
DTSTAMP:20260424T211049
CREATED:20231220T193403Z
LAST-MODIFIED:20240121T110217Z
UID:22154-1706387400-1706387400@villemorte.fr
SUMMARY:Seize + Lucas Mendez trio
DESCRIPTION:Seize (trio psyché rock/ jazz)\n\nSeize est un trio d’improvisation à la conquête des grands espaces en milieux exigus. Il invite à ouvrir les portes de la perception par voie naturelle\, à saisir l’instant (Seize the day!) et à le transformer en un voyage expérimental et psychédélique. Poursuivant les chemins ouverts par Bitches Brew (Miles Davis)\, Rubycon (Tangerine Dream) et plus récemment Spaces (Nils frahm)\, Seize explore ces contrées sans filet\, ne se fiant qu’au hasard et à l’instinct pour guider sa route. \nPour écouter: https://seizemusique.bandcamp.com/album/halfway-to-infinity \n \n\nLucas Mendez trio (Jazz actuel)\n\n\nLe Lucas Mendez trio rend hommage aux grands artistes modernes de Jazz de la scène actuelle en particulier New Yorkaise: des artistes comme Joel Ross\, Immanuel Wilkins\, Charles Altura\, Gilad Hekselman\, Marcus Gilmore…\nLucas Mendez: guitare\, Léo Messina: contrebasse\, Julien Ducruet: batterie
URL:https://villemorte.fr/agenda/seize-lucas-mendez-trio/
LOCATION:Les Clameurs\, 23 rue d'Aguesseau\, LYON\, 69007\, France
CATEGORIES:musique live
ATTACH;FMTTYPE=image/jpeg:https://villemorte.fr/wp-content/uploads/2023/12/Affiche-Seize-Lucas-Mendez-trio-Clameur-27-01-2024-scaled.jpg
END:VEVENT
END:VCALENDAR