BEGIN:VCALENDAR
VERSION:2.0
PRODID:-//Ville Morte - ECPv5.12.4//NONSGML v1.0//EN
CALSCALE:GREGORIAN
METHOD:PUBLISH
X-WR-CALNAME:Ville Morte
X-ORIGINAL-URL:https://villemorte.fr
X-WR-CALDESC:évènements pour Ville Morte
BEGIN:VTIMEZONE
TZID:Europe/Paris
BEGIN:DAYLIGHT
TZOFFSETFROM:+0100
TZOFFSETTO:+0200
TZNAME:CEST
DTSTART:20230326T010000
END:DAYLIGHT
BEGIN:STANDARD
TZOFFSETFROM:+0200
TZOFFSETTO:+0100
TZNAME:CET
DTSTART:20231029T010000
END:STANDARD
END:VTIMEZONE
BEGIN:VEVENT
DTSTART;TZID=Europe/Paris:20231028T200000
DTEND;TZID=Europe/Paris:20231028T200000
DTSTAMP:20260420T101411
CREATED:20231003T183640Z
LAST-MODIFIED:20231003T183640Z
UID:20959-1698523200-1698523200@villemorte.fr
SUMMARY:Sharped Records party
DESCRIPTION:Sharped Records presents “Sharped Machines” with Delectro\, L’Ätlas & More. See you on October 28 at « Le Sonic » for a full EBM/TECHNO party. On the occasion of its European tour\, Sharped Records is stocked to welcome Delectro to Lyon for its very first performance in France.\nThe Colombian producer will bring with him his synthesizers and drum machines for an immersive sound experience that you absolutely don’t want to miss !\nL’Ätlas will take care of the premiere. And we’ll close the night with Ramtarr & Moravie from midnight to the end.\n20:00 – 00:00 : 10€\n00:00 – END : ON DONATION\n\nRUNNING ORDER (DOOR OPEN AT 20:00)\n\nL’Ätlas (live) : 21:15 – 22:15\nBetween an apocalyptic future\, an industrial wasteland lost in the East-side and a ruined blockhaus\, L’Ätlas ‘ s work is characterized by a mixture of genres. He delivers a multi-faceted music\, drawing from EBM\, industrial and cold music. After his debut Ep called « Deviance » out on Parfé Records and some contribution to a few V / A’s\, He is also the co-founder of Rafale Records. Now based in Lyon\, he’s back to share his new live performance !\nhttps://soundcloud.com/latlas\n\nDelectro (live) : 22:45 – 23:45\nDiego Diaz A.K.A. Delectro sound producer\, Live Performer and DJ from Bogota\, started to build his sound in 2006 experimenting and mixing fast basslines\, metallic drums and his voice with a clear influence of 80’s EBM\, Electro and Techno\, with a futuristic\, dystopian and industrial sound result.\nAfter several compilation releases\, remixes for artists like Thomas P. Heckmann and some EP’s on different labels like: Dame-Music\, Detriti Records\, Mecanica Records\, Mekanikas\, Kindcrime Recordings\, Shishi & Sharped Records. With releases such as « Mass Destruction »\, « Missiles » and his most recent « Mass Control » which includes a remix by Bloody Mary\, Delectro sound has no border and found its way to the Dancefloor.\nhttps://soundcloud.com/dj-delectro\n\nRamtarr : 00:00 – 01:45\nLyon-based artist & founder of Sharped Records\, Ramtarr is a side-project focused into body music\, dark & wild electronics. Grinding everything between old school vibes to the modern wave of EBM. A Spontaneous operation from jam sequences to disorder…\nhttps://soundcloud.com/ramtarr\n\nMoravie : 01:45 – END\nMoravie selects tracks with dark\, heavy\, and metallic sounds.. She raises the heat of the dance floor with wet and sensual beats. Blending hot and cold music with some Dark Disco\, EBM and dark techno music.\nhttps://soundcloud.com/moravie-458171212\n\nLGBTQ+ FRIENDLY / INCLUSION / RESPECT / TOLERANCE / GOOD VIBE ONLY & CUT THE CAMERAS
URL:https://villemorte.fr/agenda/sharped-records-party/
LOCATION:Sonic\, 4 quai des Etroits\, Lyon\, 69005\, France
CATEGORIES:club,musique live
END:VEVENT
END:VCALENDAR