BEGIN:VCALENDAR
VERSION:2.0
PRODID:-//Ville Morte - ECPv5.12.4//NONSGML v1.0//EN
CALSCALE:GREGORIAN
METHOD:PUBLISH
X-WR-CALNAME:Ville Morte
X-ORIGINAL-URL:https://villemorte.fr
X-WR-CALDESC:évènements pour Ville Morte
BEGIN:VTIMEZONE
TZID:Europe/Paris
BEGIN:DAYLIGHT
TZOFFSETFROM:+0100
TZOFFSETTO:+0200
TZNAME:CEST
DTSTART:20200329T010000
END:DAYLIGHT
BEGIN:STANDARD
TZOFFSETFROM:+0200
TZOFFSETTO:+0100
TZNAME:CET
DTSTART:20201025T010000
END:STANDARD
END:VTIMEZONE
BEGIN:VEVENT
DTSTART;TZID=Europe/Paris:20200227T203000
DTEND;TZID=Europe/Paris:20200227T203000
DTSTAMP:20260423T130240
CREATED:20200130T073516Z
LAST-MODIFIED:20200130T074529Z
UID:11995-1582835400-1582835400@villemorte.fr
SUMMARY:SHITSTORM + ABRE LOS OJOS + MIKE BRANQUE
DESCRIPTION:Le Comité des fêtes de Bourgoin jallieu présente: \nSHITSTORM + ABRE LOS OJOS + MIKE BRANQUE \n27 fevrier 20h30 5e \nSHITSTORM (fast core – Lyon)\nhttps://joecoolrecords.bandcamp.com/album/shit-the-light-cool-005 \nABRE LOS OJOS (fast core – Bourg en Bresse)\nhttps://abrelosojos.bandcamp.com/ \nMIKE BRANQUE (medium core – Bourgoin jallieu) \n20h30\n5 euros\nBar des Capucins _ 5 pl des Capucins_69001 LYON
URL:https://villemorte.fr/agenda/shitstorm-abre-los-ojos-mike/
LOCATION:Bar des Capucins\, Place des Capucins\, Lyon\, 69001\, France
CATEGORIES:musique live
END:VEVENT
END:VCALENDAR