BEGIN:VCALENDAR
VERSION:2.0
PRODID:-//Ville Morte - ECPv5.12.4//NONSGML v1.0//EN
CALSCALE:GREGORIAN
METHOD:PUBLISH
X-WR-CALNAME:Ville Morte
X-ORIGINAL-URL:https://villemorte.fr
X-WR-CALDESC:évènements pour Ville Morte
BEGIN:VTIMEZONE
TZID:Europe/Paris
BEGIN:DAYLIGHT
TZOFFSETFROM:+0100
TZOFFSETTO:+0200
TZNAME:CEST
DTSTART:20180325T010000
END:DAYLIGHT
BEGIN:STANDARD
TZOFFSETFROM:+0200
TZOFFSETTO:+0100
TZNAME:CET
DTSTART:20181028T010000
END:STANDARD
END:VTIMEZONE
BEGIN:VEVENT
DTSTART;TZID=Europe/Paris:20181020T203000
DTEND;TZID=Europe/Paris:20181020T203000
DTSTAMP:20260422T065803
CREATED:20180926T100257Z
LAST-MODIFIED:20180926T100318Z
UID:7068-1540067400-1540067400@villemorte.fr
SUMMARY:Showl // Schleu // Brain Juice Drainer // Expo Nad Artwork
DESCRIPTION:20/10 : Point de non retour : Showl // Schleu // Brain Juice Drainer // Expo Nad Artwork @ Capucins\, 5 euros
URL:https://villemorte.fr/agenda/showl-schleu-brain-juice-drainer-expo-nad-artwork/
LOCATION:Bar des Capucins\, Place des Capucins\, Lyon\, 69001\, France
CATEGORIES:exposition,musique live
END:VEVENT
END:VCALENDAR