BEGIN:VCALENDAR
VERSION:2.0
PRODID:-//Ville Morte - ECPv5.12.4//NONSGML v1.0//EN
CALSCALE:GREGORIAN
METHOD:PUBLISH
X-WR-CALNAME:Ville Morte
X-ORIGINAL-URL:https://villemorte.fr
X-WR-CALDESC:évènements pour Ville Morte
BEGIN:VTIMEZONE
TZID:Europe/Paris
BEGIN:DAYLIGHT
TZOFFSETFROM:+0100
TZOFFSETTO:+0200
TZNAME:CEST
DTSTART:20230326T010000
END:DAYLIGHT
BEGIN:STANDARD
TZOFFSETFROM:+0200
TZOFFSETTO:+0100
TZNAME:CET
DTSTART:20231029T010000
END:STANDARD
END:VTIMEZONE
BEGIN:VEVENT
DTSTART;TZID=Europe/Paris:20231209T190000
DTEND;TZID=Europe/Paris:20231209T220000
DTSTAMP:20260424T230422
CREATED:20231003T173114Z
LAST-MODIFIED:20231003T173114Z
UID:20918-1702148400-1702159200@villemorte.fr
SUMMARY:Shygirl
DESCRIPTION:Révélation de l’hyperpop britannique\, Shygirl sort son premier album « Nymph » et fait son premier concert au Sucre. Compositrice\, chanteuse\, rappeuse\, elle fait partie de cette scène qui se réapproprie la pop en créant une rencontre avec la rave\, le hip-hop\, la techno ou la musique de jeux vidéos\, on a hâte !
URL:https://villemorte.fr/agenda/shygirl/
LOCATION:Le Sucre\, 50 quai Rambaud\, Lyon\, 69002
CATEGORIES:musique live
END:VEVENT
END:VCALENDAR