BEGIN:VCALENDAR
VERSION:2.0
PRODID:-//Ville Morte - ECPv5.12.4//NONSGML v1.0//EN
CALSCALE:GREGORIAN
METHOD:PUBLISH
X-WR-CALNAME:Ville Morte
X-ORIGINAL-URL:https://villemorte.fr
X-WR-CALDESC:évènements pour Ville Morte
BEGIN:VTIMEZONE
TZID:Europe/Paris
BEGIN:DAYLIGHT
TZOFFSETFROM:+0100
TZOFFSETTO:+0200
TZNAME:CEST
DTSTART:20190331T010000
END:DAYLIGHT
BEGIN:STANDARD
TZOFFSETFROM:+0200
TZOFFSETTO:+0100
TZNAME:CET
DTSTART:20191027T010000
END:STANDARD
END:VTIMEZONE
BEGIN:VEVENT
DTSTART;TZID=Europe/Paris:20190201T200000
DTEND;TZID=Europe/Paris:20190201T200000
DTSTAMP:20260419T191038
CREATED:20190114T172204Z
LAST-MODIFIED:20190114T172204Z
UID:8319-1549051200-1549051200@villemorte.fr
SUMMARY:Sofiane Saidi & Mazalda
DESCRIPTION:Sofiane Saidi & Mazalda\nRaï Cosmique \nUn concert Opéra Underground \n▬▬▬ À PROPOS ▬▬▬\nLe Raï n’a jamais vraiment eu sa chance…musique trop rapidement étiquetée « communautaire »\, elle est passée en un temps éclair des cassettes Lo-Fi de Barbès aux productions trop léchées des années 90.\nLa magnifique collaboration entre le groupe lyonnais Mazalda et le chanteur algérien Sofiane Saidi est loin d’être un hommage nostalgique. Leur musique est une réinvention qui allie les envolées lyriques des grands chanteurs oranais à des arrangements qui osent les expérimentations inattendues mais toujours pertinentes. Leur premier disque\, El Ndjoum\, s’est déjà fait une place au panthéon des meilleurs disques 2018 – et leurs concerts sont des marathons de pure énergie. \n▬▬▬ INFORMATIONS PRATIQUES ▬▬▬ \n×Vendredi 01 février 2019 à 20h \n×Amphi de l’Opéra de Lyon \n×Tarifs :\nPlein tarif : 22€\nTarif réduit : 18€ (jusqu’à 28 ans révolus\, demandeurs d’emploi\, bénéficiaires d’aides sociales et porteurs de carte d’invalidité) \n× Informations et réservations : http://bit.ly/SaidiMazalda \nL’Opéra Underground – un nouveau projet de l’@Opéra de Lyon – programme des musiques qui allient la tradition à l’iconoclasme\, la virtuosité à la sobriété et l’énergie des musiques populaires à la complexité harmonique des musiques savantes.\n→ http://bit.ly/OperaUnderground
URL:https://villemorte.fr/agenda/sofiane-saidi-mazalda/
LOCATION:opéra national de Lyon\, 1 Place de la Comédie\, Lyon\, 69001
CATEGORIES:musique live
END:VEVENT
END:VCALENDAR