BEGIN:VCALENDAR
VERSION:2.0
PRODID:-//Ville Morte - ECPv5.12.4//NONSGML v1.0//EN
CALSCALE:GREGORIAN
METHOD:PUBLISH
X-WR-CALNAME:Ville Morte
X-ORIGINAL-URL:https://villemorte.fr
X-WR-CALDESC:évènements pour Ville Morte
BEGIN:VTIMEZONE
TZID:Europe/Paris
BEGIN:DAYLIGHT
TZOFFSETFROM:+0100
TZOFFSETTO:+0200
TZNAME:CEST
DTSTART:20240331T010000
END:DAYLIGHT
BEGIN:STANDARD
TZOFFSETFROM:+0200
TZOFFSETTO:+0100
TZNAME:CET
DTSTART:20241027T010000
END:STANDARD
END:VTIMEZONE
BEGIN:VEVENT
DTSTART;TZID=Europe/Paris:20241011T190000
DTEND;TZID=Europe/Paris:20241011T190000
DTSTAMP:20260423T154400
CREATED:20240916T203210Z
LAST-MODIFIED:20240916T203210Z
UID:25555-1728673200-1728673200@villemorte.fr
SUMMARY:Soirée ciné-débat: Une fois que tu sais
DESCRIPTION:CINÉ-DÉBAT : « UNE FOIS QUE TU SAIS » \nNous vous invitons à nous rejoindre aux Grandes Voisines pour la diffusion du film « Une fois que tu sais » de Emmanuel Cappellin\, qui plonge dans la réalité de la catastrophe climatique et nous pousse à agir collectivement pour une transition humaine. Une animation spécifique suivra la projection pour approfondir ce sujet crucial. Restez connectés la suite arrive bientôt… \n\nQuand : 11 octobre à 18h (salle de spectacle)\nOù : 40 Avenue de la Table de Pierre\, Francheville 69340\nDans le cadre de la quinzaine de l’écologie aux Grandes Voisines\nPrix libre
URL:https://villemorte.fr/agenda/soiree-cine-debat-une-fois-que-tu-sais/
LOCATION:Les Grandes Voisines\, 40 avenue de la Table de Pierre\, Francheville\, 69340\, France
CATEGORIES:débat,projection
END:VEVENT
END:VCALENDAR