BEGIN:VCALENDAR
VERSION:2.0
PRODID:-//Ville Morte - ECPv5.12.4//NONSGML v1.0//EN
CALSCALE:GREGORIAN
METHOD:PUBLISH
X-WR-CALNAME:Ville Morte
X-ORIGINAL-URL:https://villemorte.fr
X-WR-CALDESC:évènements pour Ville Morte
BEGIN:VTIMEZONE
TZID:Europe/Paris
BEGIN:DAYLIGHT
TZOFFSETFROM:+0100
TZOFFSETTO:+0200
TZNAME:CEST
DTSTART:20240331T010000
END:DAYLIGHT
BEGIN:STANDARD
TZOFFSETFROM:+0200
TZOFFSETTO:+0100
TZNAME:CET
DTSTART:20241027T010000
END:STANDARD
END:VTIMEZONE
BEGIN:VEVENT
DTSTART;TZID=Europe/Paris:20241018T190000
DTEND;TZID=Europe/Paris:20241018T190000
DTSTAMP:20260419T174800
CREATED:20240920T095000Z
LAST-MODIFIED:20240920T095000Z
UID:25845-1729278000-1729278000@villemorte.fr
SUMMARY:Soirée Cyberpunk Japon
DESCRIPTION:Mix Dj avec Elden Nebula et Guests\, ambiance Cyberpunk\, Vidéoprojection et surprises.\nToute la programmation sur le site de BosKop ! \nDans le cadre de l’exposition Japon & Science-fiction à la galerie de BosKop du 27 septembre au 18 octobre. \nToute la programmation sur le site de BosKop ! \nPrévente :\nhttps://www.helloasso.com/associations/joyeuse-association-lyonnaise/evenements/soiree-de-cloture-cyberpunk-japonais \nEn partenariat avec le festival Les Intergalactiques et Muteki Radio.
URL:https://villemorte.fr/agenda/soiree-cyberpunk-japon/
LOCATION:BosKop\, 60 rue Sébastien Gryphe\, Lyon\, 69007
CATEGORIES:musique live
ATTACH;FMTTYPE=image/jpeg:https://villemorte.fr/wp-content/uploads/2024/09/005.jpg
END:VEVENT
END:VCALENDAR