BEGIN:VCALENDAR
VERSION:2.0
PRODID:-//Ville Morte - ECPv5.12.4//NONSGML v1.0//EN
CALSCALE:GREGORIAN
METHOD:PUBLISH
X-WR-CALNAME:Ville Morte
X-ORIGINAL-URL:https://villemorte.fr
X-WR-CALDESC:évènements pour Ville Morte
BEGIN:VTIMEZONE
TZID:Europe/Paris
BEGIN:DAYLIGHT
TZOFFSETFROM:+0100
TZOFFSETTO:+0200
TZNAME:CEST
DTSTART:20230326T010000
END:DAYLIGHT
BEGIN:STANDARD
TZOFFSETFROM:+0200
TZOFFSETTO:+0100
TZNAME:CET
DTSTART:20231029T010000
END:STANDARD
END:VTIMEZONE
BEGIN:VEVENT
DTSTART;TZID=Europe/Paris:20231103T190000
DTEND;TZID=Europe/Paris:20231103T190000
DTSTAMP:20260420T083402
CREATED:20231010T172058Z
LAST-MODIFIED:20231016T182209Z
UID:21241-1699038000-1699038000@villemorte.fr
SUMMARY:SOIRÉE DE SOUTIEN À L'ATELIER DES CANULARS
DESCRIPTION:Déjà 20 ans que l’Atelier des Canulars lieu d’expérimentations politiques\, culturelles\, de pratiques d’autogestion est ouvert dans le 7ème. \nAprès un été de travaux pour mise aux normes PMR\, l’Atelier des Canulars vous convie à une belle soirée de soutien hors ses murs. \nLa soirée commencera avec la Chorale des Canulars\nhttp://lachoraledescanulars.free.fr/ \nSuivie d’un concert avec : \nARSENIC MILKSHAKE – Punk Rock ramoneux – Lugdunum \n. . . aka Nikola H. MOUNOUD – actionneur sonneur – Somewhere\nhttp://ooo.meovco.com/ \nAVEZE TWIN – Métal noir D-beateux – Clermont sale temps \nMARGARITA – Juicy noise-doom – la capitale\nhttps://margaritadoom.bandcamp.com/album/s-t \nMei ZHIYONG – Extreme Noise Actionism – Chine\nhttp://www.meizhiyong.com/ \nRÅTTEN – Humanity’s failure – descendus dans les montagnes\nhttps://rattenblackmetal.bandcamp.com/album/roi-de-rats \nEt après on va danser jusqu’à l’aube avec Fraunana\, Punkmutiny… \nLa Distro de la Luttine sera là avec vinyl\, K7\, zines\, livres… \nEntrée prix libre\nAdhésion GZ prix libre \nSur place bières\, vins\, softs maison et des veganneries à manger \nPas de CB \nPas de relouEs\nPas de fachos\nAucune tolérance envers tout comportement raciste\, sexiste ou LGBTQIphobe !
URL:https://villemorte.fr/agenda/soiree-de-soutien-a-latelier-des-canulars/
LOCATION:Grrrnd Zero\, 60\, avenue de Bohlen\, Vaulx en Velin\, 69120
CATEGORIES:club,distro,musique live
END:VEVENT
END:VCALENDAR