BEGIN:VCALENDAR
VERSION:2.0
PRODID:-//Ville Morte - ECPv5.12.4//NONSGML v1.0//EN
CALSCALE:GREGORIAN
METHOD:PUBLISH
X-WR-CALNAME:Ville Morte
X-ORIGINAL-URL:https://villemorte.fr
X-WR-CALDESC:évènements pour Ville Morte
BEGIN:VTIMEZONE
TZID:Europe/Paris
BEGIN:DAYLIGHT
TZOFFSETFROM:+0100
TZOFFSETTO:+0200
TZNAME:CEST
DTSTART:20190331T010000
END:DAYLIGHT
BEGIN:STANDARD
TZOFFSETFROM:+0200
TZOFFSETTO:+0100
TZNAME:CET
DTSTART:20191027T010000
END:STANDARD
END:VTIMEZONE
BEGIN:VEVENT
DTSTART;TZID=Europe/Paris:20190330T200000
DTEND;TZID=Europe/Paris:20190330T200000
DTSTAMP:20260426T031257
CREATED:20190310T181231Z
LAST-MODIFIED:20190310T181231Z
UID:8838-1553976000-1553976000@villemorte.fr
SUMMARY:Soirée Latino (Y'en a Mars)
DESCRIPTION:la deuxième édition du festival Y’en A Mars (https://www.facebook.com/festivalyenamars/)\n\n\n\n– samedi 30 mars à 20h au Sudaka (Lyon1)\, soirée latino avec :\n* Nala : Nala est une chanteuse\, compositrice et multi-instrumentiste d’origine espagnole. Dans sa musique on entend le mélange des influences du continent latino-américain et de ses propres racines\, le folklore du nord espagnol. Avec sa voix\, elle se réapproprie des rythmes et sonorités de différents styles pour créer à nouveau.\n* Caio Bosco : Caio Bosco est chanteur\, compositeur\, guitariste et producteur musical brésilien. Il se distingue par sa voix caractéristique et son influence soul\, avec des compositions et productions qui mixent musique brésilienne\, jazz-funk\, hip-hop 90’s et rock psychédélique.\nhttps://caiobosco.com/\n* Bon muchacho Gusto ! : « Envoyés pour promouvoir le tourisme dans leur petit pays d’Amérique Latine\, deux musiciens ambulants viennent faire partager un peu de leur folkore tropical et de eur culture musicale. Entre descargas et Salsachoke\, et à travers un répertoire explosif digne des meilleurs salsatecas de Miranda\, les jambes s’animent\, les corps se délient\, une conférence fantaisiste et bigarrée s’invite et réveille les yeux et les oreilles. » Avec Karen Sanchez Pineda et Colin Bosio.\nhttps://www.facebook.com/conmuchachogusto/\n* /!\ le groupe Al shoke sans system devrait jouer\, mais ce n’est pas encore sûr…:\nfacebook.com/alshokesansystem/ \n\n\n\n\n\n\n\n\n\n\n\n\n\n\n\n\n\nAssociation des étudiants du CFMI de Lyon\nCentre de Formation de Musiciens Intervenants \n\n95 boulevard Pinel \n69500 BRON\n\nhttps://asso-etu-cfmi-lyon.jimdo.com/
URL:https://villemorte.fr/agenda/soiree-latino-yen-a-mars/
LOCATION:sudaka\, 20 Rue Terraille\, LYON\, 69001
CATEGORIES:musique live
ATTACH;FMTTYPE=image/jpeg:https://villemorte.fr/wp-content/uploads/2019/03/51677705_546941732450237_4118961421700562944_n.jpg
END:VEVENT
END:VCALENDAR