BEGIN:VCALENDAR
VERSION:2.0
PRODID:-//Ville Morte - ECPv5.12.4//NONSGML v1.0//EN
CALSCALE:GREGORIAN
METHOD:PUBLISH
X-WR-CALNAME:Ville Morte
X-ORIGINAL-URL:https://villemorte.fr
X-WR-CALDESC:évènements pour Ville Morte
BEGIN:VTIMEZONE
TZID:Europe/Paris
BEGIN:DAYLIGHT
TZOFFSETFROM:+0100
TZOFFSETTO:+0200
TZNAME:CEST
DTSTART:20190331T010000
END:DAYLIGHT
BEGIN:STANDARD
TZOFFSETFROM:+0200
TZOFFSETTO:+0100
TZNAME:CET
DTSTART:20191027T010000
END:STANDARD
END:VTIMEZONE
BEGIN:VEVENT
DTSTART;TZID=Europe/Paris:20190201T190000
DTEND;TZID=Europe/Paris:20190201T190000
DTSTAMP:20260419T170809
CREATED:20190114T202125Z
LAST-MODIFIED:20190114T202125Z
UID:8338-1549047600-1549047600@villemorte.fr
SUMMARY:Solidarité avec les activistes de 269 LIBÉRATION ANIMALE !
DESCRIPTION:L’Atelier des Canulars accueille 269 Libération Animale pour une nouvelle soirée de soutien contre la répression\, une soirée spéciale et résolument tournée vers la pratique et l’action puisque le collectif Boxe Populaire Croix-Rousse y proposera un cours de self-defense pour les activistes antispécistes. \nUn beau témoignage de solidarité de la part de ce club de boxe autogéré que nous remercions chaleureusement : www.facebook.com/pages/category/Sports-Team/Boxe-populaire-x-rousse-1506554526287428/ \nL’enseignement de l’autodéfense n’est pas du folklore mais un vrai outil d’émancipation\, un savoir-faire militant historique : c’est cultiver la révolte et se remodeler soi-même comme sujet politique\, une manière de se défendre et de se réapproprier la violence. \nAu programme : deux heures de cours pour se sentir un peu moins seul.e.s et impuissant.e.s face à la brutalité policière lors des évacuations\, pour créer des liens\, des complicités offensives et des solidarités. \nATTENTION : Le cours de self-defense dispose d’une capacité limitée à 14 personnes. Il faut donc impérativement s’inscrire avant le 1er février par un message privé sur la page de l’association. \nQuelques consignes à respecter : \n– prévoir un sweat / t-shirt bien épais et ne risquant pas de se déchirer\,\n– pour les personnes qui ont des piercings apparents : les enlever ou mettre un pansement dessus. \nVous pouvez bien évidemment assister au cours comme simple spectateur.trice hors des tatamis ! \nLa séance de self-defense sera suivie d’une soirée de soutien conviviale avec buffet vegan chaud et froid à prix libre\, bar\, musique\, stand de vente d’illustrations et infokiosque ! \nNous vous attendons nombreux.ses dés 19h !
URL:https://villemorte.fr/agenda/solidarite-avec-les-activistes-de-269-liberation-animale/
LOCATION:L’Atelier des Canulars\, 91 rue Montesquieu\, LYON\, 69007
CATEGORIES:bouffe,boxe
END:VEVENT
END:VCALENDAR