BEGIN:VCALENDAR
VERSION:2.0
PRODID:-//Ville Morte - ECPv5.12.4//NONSGML v1.0//EN
CALSCALE:GREGORIAN
METHOD:PUBLISH
X-WR-CALNAME:Ville Morte
X-ORIGINAL-URL:https://villemorte.fr
X-WR-CALDESC:évènements pour Ville Morte
BEGIN:VTIMEZONE
TZID:Europe/Paris
BEGIN:DAYLIGHT
TZOFFSETFROM:+0100
TZOFFSETTO:+0200
TZNAME:CEST
DTSTART:20190331T010000
END:DAYLIGHT
BEGIN:STANDARD
TZOFFSETFROM:+0200
TZOFFSETTO:+0100
TZNAME:CET
DTSTART:20191027T010000
END:STANDARD
END:VTIMEZONE
BEGIN:VEVENT
DTSTART;TZID=Europe/Paris:20190425T203000
DTEND;TZID=Europe/Paris:20190425T203000
DTSTAMP:20260425T223844
CREATED:20190310T192153Z
LAST-MODIFIED:20190310T224505Z
UID:8888-1556224200-1556224200@villemorte.fr
SUMMARY:Sooma ✚ Rescue Rangers
DESCRIPTION:jeu. 25/04 Sooma ✚ Rescue Rangers (5€) \nLe Farmer & Kill the Lights présentent :\nSOOMA ✚ RESCUE RANGERS\nJeudi 25 avril ♞ 20h30 ♞ 5€\n❤ Mad Season\, Mudhoney\, Helmet\, Unsane\, Screaming Trees\, Green River\, Kyuss\, Silverchair\, Soundgarden\, Nirvana\, Toadies.. \n♞ SOOMA (grunge rock stoner – Zurich)\nSOOMA naît directement du noyau de la musique rock. Un détour serait simplement une perte d’énergie. Où est-ce que cette dernière doit aller est clair: directement sous la peau et droit au cœur. La force brute accompagnée d’une présence électrisante et d’une énergie palpable sont toutes personnifiés dans la musique de SOOMA. Le groupe mène dans de nombreux abîmes mais il le fait avec une violence contagieuse qui elle\, insuffle la vie.\nFB https://www.facebook.com/soomaband/\nYT https://www.youtube.com/watch?v=GDCj5Ur4h9Q\nBC https://sooma.bandcamp.com/ \n♞ RESCUE RANGERS (noise rock & grunge stoner – Marseille)\nAprès deux albums\, plusieurs tournées aux côtés de Nick Oliveri\, Hermano\, Red Fang…Rescue Rangers s’associe au leader du groupe Helmet qui produit leur 3ème album. Ce choix artistique marque un renouveau musical pour Rescue Rangers : le son devient plus acéré. Le résultat est condensé dans cet album sous haute tension\, « Join Hate » (2017).\nNous avons le plaisir de les retrouver au Farmer pour la sortie de leur nouvlel album (avril 2019) !\nFB https://www.facebook.com/rescuerangrs/\nYT *new single* https://www.youtube.com/watch?v=S_XQjhlbLhs\nBC https://rescuerangers.bandcamp.com/album/join-hate \n🕣 20h30\n💸 5€ (recettes 100% reversées aux groupes)\n🚴‍ LE FARMER – 14 montée des Carmélites – 69001 LYON
URL:https://villemorte.fr/agenda/sooma-%e2%9c%9a-rescue-rangers/
LOCATION:Le Farmer\, 14 montée des Carmélites\, Lyon\, France
CATEGORIES:musique live
END:VEVENT
END:VCALENDAR