BEGIN:VCALENDAR
VERSION:2.0
PRODID:-//Ville Morte - ECPv5.12.4//NONSGML v1.0//EN
CALSCALE:GREGORIAN
METHOD:PUBLISH
X-WR-CALNAME:Ville Morte
X-ORIGINAL-URL:https://villemorte.fr
X-WR-CALDESC:évènements pour Ville Morte
BEGIN:VTIMEZONE
TZID:Europe/Paris
BEGIN:DAYLIGHT
TZOFFSETFROM:+0100
TZOFFSETTO:+0200
TZNAME:CEST
DTSTART:20220327T010000
END:DAYLIGHT
BEGIN:STANDARD
TZOFFSETFROM:+0200
TZOFFSETTO:+0100
TZNAME:CET
DTSTART:20221030T010000
END:STANDARD
END:VTIMEZONE
BEGIN:VEVENT
DTSTART;TZID=Europe/Paris:20220219T203000
DTEND;TZID=Europe/Paris:20220219T203000
DTSTAMP:20260425T222248
CREATED:20220213T171610Z
LAST-MODIFIED:20220213T171722Z
UID:14875-1645302600-1645302600@villemorte.fr
SUMMARY:Sordide + Neige Morte
DESCRIPTION:▪️SORDIDE (Black metal – Rouen)\nFrom the wet gutters of Rouen comes SORDIDE\, a raw black metal power trio which spits its scornful and desperate anger in Molière’s language under the motto “neither name\, nor flag”. Since their inception in 2014\, the band has released two well-received albums\, « La France A Peur » and « Fuir La Lumière »\, as well as a split EP with Satan. The power trio brings their idiosyncratic take on black metal to another level; reinterpreting\nthe heritage of second wave bands through their own disillusioned yet exultant lens. Undeniably rooted in punk in sound and spirit\, the band shines at spreading its vehement urgency – furious or more lancinant\, yet always hypnotic and vitriolic -\,built for moist basement shows. Sordide just released their new album « Les Idées Blanches » on Les Acteurs de l’Ombre Productions. \n▪️NEIGE MORTE  (Black metal – Lyon)\nNeige Morte are an obscure entity from Lyon\, France and Göteborg\, Sweden\, creating an icy and oppressive hypothermic musical blast. Ponderous and bizarre passages of atmospheric sound crack and give way plunging the listener into frozen riffs as they are carried off by the post-Black Metal current tearing through the heart of Neige Morte. \n🕣 20h30\n💸 8\,00€ (recettes 100% reversées aux groupes)\n🚴‍ LE FARMER – 14 montée des Carmélites – 69001 LYON
URL:https://villemorte.fr/agenda/sordide-neige-morte/
LOCATION:Le Farmer\, 14 montée des Carmélites\, Lyon\, France
CATEGORIES:musique live
END:VEVENT
END:VCALENDAR