BEGIN:VCALENDAR
VERSION:2.0
PRODID:-//Ville Morte - ECPv5.12.4//NONSGML v1.0//EN
CALSCALE:GREGORIAN
METHOD:PUBLISH
X-WR-CALNAME:Ville Morte
X-ORIGINAL-URL:https://villemorte.fr
X-WR-CALDESC:évènements pour Ville Morte
BEGIN:VTIMEZONE
TZID:Europe/Paris
BEGIN:DAYLIGHT
TZOFFSETFROM:+0100
TZOFFSETTO:+0200
TZNAME:CEST
DTSTART:20230326T010000
END:DAYLIGHT
BEGIN:STANDARD
TZOFFSETFROM:+0200
TZOFFSETTO:+0100
TZNAME:CET
DTSTART:20231029T010000
END:STANDARD
END:VTIMEZONE
BEGIN:VEVENT
DTSTART;TZID=Europe/Paris:20231014T200000
DTEND;TZID=Europe/Paris:20231014T200000
DTSTAMP:20260420T184346
CREATED:20230911T192705Z
LAST-MODIFIED:20230911T192705Z
UID:20615-1697313600-1697313600@villemorte.fr
SUMMARY:Sound of Fuzz + Quantum
DESCRIPTION:SOUND OF FUZZ (garage fuzz – Lyon)\n\nLe groupe se forme en 2015 via la sortie d’une démo. Les musiciens partagent la même passion pour un rock primitif à l’énergie brute. Un mélange de compositions et d’hommages aux groupes garage des sixties et du début des seventies qui donnèrent naissance au mouvement punk. \nFB https://www.facebook.com/soundoffuzz/\nWS http://www.soundoffuzz.com \n\nQUANTUM (pop rock – Lyon)\n\nGroupe Pop-Rock créé en 2018 dans la région lyonnaise. \n \nFB https://www.facebook.com/Quantum.lyon/\nBC https://quantumlyon.bandcamp.com/album/damage-done
URL:https://villemorte.fr/agenda/sound-of-fuzz-quantum/
LOCATION:Le Farmer\, 14 montée des Carmélites\, Lyon\, France
CATEGORIES:musique live
END:VEVENT
END:VCALENDAR