BEGIN:VCALENDAR
VERSION:2.0
PRODID:-//Ville Morte - ECPv5.12.4//NONSGML v1.0//EN
CALSCALE:GREGORIAN
METHOD:PUBLISH
X-WR-CALNAME:Ville Morte
X-ORIGINAL-URL:https://villemorte.fr
X-WR-CALDESC:évènements pour Ville Morte
BEGIN:VTIMEZONE
TZID:Europe/Paris
BEGIN:DAYLIGHT
TZOFFSETFROM:+0100
TZOFFSETTO:+0200
TZNAME:CEST
DTSTART:20190331T010000
END:DAYLIGHT
BEGIN:STANDARD
TZOFFSETFROM:+0200
TZOFFSETTO:+0100
TZNAME:CET
DTSTART:20191027T010000
END:STANDARD
END:VTIMEZONE
BEGIN:VEVENT
DTSTART;TZID=Europe/Paris:20191030T203000
DTEND;TZID=Europe/Paris:20191030T203000
DTSTAMP:20260422T182733
CREATED:20190917T085949Z
LAST-MODIFIED:20191026T101529Z
UID:10756-1572467400-1572467400@villemorte.fr
SUMMARY:Sparkling + Eisbear
DESCRIPTION:des lys de Novembre présente : \nSPARKLING (post punk/Cologne) + GUEST\nMERCREDI 30 OCTOBRE\nLA MARQUISE\n20H30 \n🌷entrée : 6 € (+0\,49 frais billetterie)\n100% pour les groupes \nbilletterie : https://www.yesgolive.com/deslysdenovembre/sparkling-post-punkcologne-guest \n♥ si tu aimes Arctic Monkeys\, Corners\, Sextile\, Art Brut\, Omni\, Solid Space\, Sneaks\, Lust for Youth\, Ought ♥ \n♥ SPARKLING (post punk/Cologne) \nUn concentré de batteries hypnotiques et de songwriting pop\nciselé. Sparkling\, c’est du post-punk à guitare\, à la fois\nfurieux et élégant\, quelque part entre Londres et Cologne.\n„I want to see everything“… Un nom d’album désarmant de\nsincérité. Sparkling n’est pas un groupe de poseurs. Les trois\nmecs de Cologne veulent simplement se jeter à corps perdu dans\nle monde. D’où cet album écrit dans ce langage universel\nqu’est la Pop\, une langue qui va bien au delà de l’allemand\,\nde l’anglais et du français qui résonnent dans leurs textes.\nC’est peut être dû à leur séjour à Londres il y a quelques\nannées\, rythmé par des petits boulots pour survivre et des\nconcerts quasi quotidiens dans toutes les villes européennes\,\nqu’ils soient sur la scène ou dans la salle. Une façon de\ns’échapper de leurs 12m2 qu’ils pouvaient à peine se payer à\ntrois.\nLe bouche-à-oreille fait des merveilles et leur permet de\njouer plusieurs concerts à Paris et dans toute la France. Ce\nqui conduit le groupe à insérer des passages en français dans\nleurs textes\, en plus du va-et-vient permanent entre les\nlangues anglaise et allemande. Sparkling est tout sauf le\nproduit d’une scène régionale. C’est l’archétype enthousiasmant\nd’un groupe foncièrement européen. Le temps d’un disque\, le\ntemps d’un concert\, Sparkling nous fait ressentir à quel point\nl’idée d’une Europe ouverte est formidable. \nYT https://www.youtube.com/watch?v=tVpd5_qvg_Q\nFB https://www.facebook.com/Sparklingofficial/
URL:https://villemorte.fr/agenda/sparkling-guest/
LOCATION:La Marquise\, 20 quai Victor Augagneur\, LYON\, 69003
CATEGORIES:musique live
END:VEVENT
END:VCALENDAR