BEGIN:VCALENDAR
VERSION:2.0
PRODID:-//Ville Morte - ECPv5.12.4//NONSGML v1.0//EN
CALSCALE:GREGORIAN
METHOD:PUBLISH
X-WR-CALNAME:Ville Morte
X-ORIGINAL-URL:https://villemorte.fr
X-WR-CALDESC:évènements pour Ville Morte
BEGIN:VTIMEZONE
TZID:Europe/Paris
BEGIN:DAYLIGHT
TZOFFSETFROM:+0100
TZOFFSETTO:+0200
TZNAME:CEST
DTSTART:20240331T010000
END:DAYLIGHT
BEGIN:STANDARD
TZOFFSETFROM:+0200
TZOFFSETTO:+0100
TZNAME:CET
DTSTART:20241027T010000
END:STANDARD
END:VTIMEZONE
BEGIN:VEVENT
DTSTART;TZID=Europe/Paris:20240509T200000
DTEND;TZID=Europe/Paris:20240509T200000
DTSTAMP:20260422T195625
CREATED:20240409T064334Z
LAST-MODIFIED:20240421T200105Z
UID:23853-1715284800-1715284800@villemorte.fr
SUMMARY:SSM + Che Vuoi + alombredulila + Chloe Eclipse
DESCRIPTION:Chloe Eclipse (post punk ennuyant) \nC’est un terrain vague en friche quelque part au milieu d’une zone industrielle à l’abandon. Chloe Eclipse y creuse des tunnels un peu partout\, à coup de batterie hésitante et de grosses basses post-punk. On ne sait pas trop bien si le but est de s’échapper\, pour profiter de ce soleil qu’on sent tout proche\, ou de s’enterrer profondément jusqu’à se sentir chez soi\, seul dans l’obscurité\, répétant les mêmes motifs synthétiques ad aeternam. \nhttps://on.soundcloud.com/q2qpS \nChe Vuoi (Musique intérieur nuit) \nChe Vuoi. Qu’est-ce que tu veux. What do you want. Mais que veux-tu vraiment ? Che Vuoi est le désir lui-même sous la forme d’une question. Cette musique parle de ce qui reste sans réponse dans chaque réponse. Ecoutez vos questions dans les chants de Che Vuoi. Dans la dissonance\, les angles\, les anges\, la colère\, les agneaux\, le rire et l’infélicité sublime\, tout ce que vous avez besoin de savoir\, c’est que cela « me rappelle de toi ». \n—Eleanor Ivory Weber \nhttps://soundcloud.com/chevuoichevuoi \nSSM (isolationism introspectif) \n« c’est vicié\, chétif\, la forme est très étendue\, et à l’écoute impossible de ne pas dériver. » \nhttps://lyl.live/episode/wreckers-ov-civilization-4 \nhttps://larepubliquedesgranges.bandcamp.com/album/crisis-dead-crash \nhttps://fougeremusique.bandcamp.com/album/le-chien \nhttps://musique-journal.fr/2022/10/09/dimanche-de-contrebande-ssm-en-concert-dans-un-salon-a-drogenbos/ \nAlombredulila (voix liquide et cassettes tremblantes) \nPar un jeu d’accumulation et de discussion entre les sons amplifiés et les cassettes gentiment martyrisés se développe une ambiance mi-douce\, mi-noise\, mi-mi. \nUne révélation dystopique de sentiments réels ou inversement je ne sais plus. \nhttps://hometapingiskillingmusic.bandcamp.com/track/alombredulila \n  \n+ d’infos à venir sur grrrndzero.org
URL:https://villemorte.fr/agenda/ssm-che-vuoi-alombredulila-chloe-eclipse/
LOCATION:Grrrnd Zero\, 60\, avenue de Bohlen\, Vaulx en Velin\, 69120
CATEGORIES:musique live
END:VEVENT
END:VCALENDAR