BEGIN:VCALENDAR
VERSION:2.0
PRODID:-//Ville Morte - ECPv5.12.4//NONSGML v1.0//EN
CALSCALE:GREGORIAN
METHOD:PUBLISH
X-WR-CALNAME:Ville Morte
X-ORIGINAL-URL:https://villemorte.fr
X-WR-CALDESC:évènements pour Ville Morte
BEGIN:VTIMEZONE
TZID:Europe/Paris
BEGIN:DAYLIGHT
TZOFFSETFROM:+0100
TZOFFSETTO:+0200
TZNAME:CEST
DTSTART:20190331T010000
END:DAYLIGHT
BEGIN:STANDARD
TZOFFSETFROM:+0200
TZOFFSETTO:+0100
TZNAME:CET
DTSTART:20191027T010000
END:STANDARD
END:VTIMEZONE
BEGIN:VEVENT
DTSTART;TZID=Europe/Paris:20191026T170000
DTEND;TZID=Europe/Paris:20191026T170000
DTSTAMP:20260423T155658
CREATED:20190901T164338Z
LAST-MODIFIED:20190901T164338Z
UID:10352-1572109200-1572109200@villemorte.fr
SUMMARY:STUPOR MUNDI #3 LE BERCEAU DES VOLONTÉS SAUVAGES
DESCRIPTION:Sam 26  /17H  STUPOR MUNDI #3 LE BERCEAU DES VOLONTÉS SAUVAGES (projection /concert) –  6€
URL:https://villemorte.fr/agenda/stupor-mundi-3-le-berceau-des-volontes-sauvages/
LOCATION:Périscope\, 13 rue Delandine\, Lyon\, 69002\, France
CATEGORIES:musique live,projection
END:VEVENT
END:VCALENDAR